BEGIN_USGS_DOQ_HEADER *
QUADRANGLE_NAME "VALLEY SPRINGS SW" 3.45 or 7.5-min. name*
QUADRANT SW quadrant indicator if cell size = 3.75-minutes*
WEST_LONGITUDE -121 0 0.000 signed deg min sec SDDD MM SS.SSS*
EAST_LONGITUDE -120 56 15.000 signed deg min sec SDDD MM SS.SSS*
NORTH_LATITUDE 38 3 45.000 signed deg min sec SDDD MM SS.SSS*
SOUTH_LATITUDE 38 0 0.000 signed deg min sec SDDD MM SS.SSS*
PRODUCTION_DATE 1996 4 20 yyyy mm dd*
RASTER_ORDER LEFT_RIGHT/TOP_BOTTOM video display order*
BAND_ORGANIZATION "SINGLE FILE" single file or BSQ, or BIL or BIP*
BAND_CONTENT BLACK&WHITE black&white or red green blue*
BITS_PER_PIXEL 8 radiometric resolution*
SAMPLES_AND_LINES 6340 7677 number of columns and rows*
HORIZONTAL_DATUM NAD83 primary horizontal datum*
HORIZONTAL_COORDINATE_SYSTEM UTM *
COORDINATE_ZONE 10 coordinate system zone number*
HORIZONTAL_UNITS METERS coordinate system units*
HORIZONTAL_RESOLUTION 1.00 pixel horiz. ground sample distance*
SECONDARY_HORIZONTAL_DATUM NAD27 secondary horizontal datum*
XY_ORIGIN 675057.500 4215062.500 coord. of upper left pixel pri. datum*
SECONDARY_XY_ORIGIN 675153.976 4214867.345 coord upper left pixel sec datum*
NATION US nation code*
STATE CA state fip code*
NW_QUAD_CORNER_XY 675454.156 4214637.937 XY coords. of pri. NW quad corner*
NE_QUAD_CORNER_XY 680937.663 4214757.840 XY coords. of pri. NE quad corner*
SE_QUAD_CORNER_XY 681091.546 4207822.205 XY coords. of pri. SE quad corner*
SW_QUAD_CORNER_XY 675603.371 4207702.367 XY coords. of pri. SW quad corner*
SECONDARY_NW_QUAD_XY 675458.549 4214432.159 XY coords. - sec. NW quad cor.*
SECONDARY_NE_QUAD_XY 680942.194 4214552.065 XY coords. - sec. NE quad cor.*
SECONDARY_SE_QUAD_XY 681096.074 4207616.579 XY coords. - sec. SE quad cor.*
SECONDARY_SW_QUAD_XY 675607.761 4207496.738 XY coords. - sec. SW quad cor.*
RMSE_XY 1.30 doq horiz. accuracy*
IMAGE_SOURCE "BLACK AND WHITE FILM" b&w, cir, natural color, other*
SOURCE_IMAGE_ID "PAPP 0350 464" source image id*
SOURCE_IMAGE_DATE 1993 5 9 source image date as yyyy mm dd*
SOURCE_DEM_DATE 1996 4 20 source dem date yyyy mm dd*
AGENCY "WESTERN MAPPING CENTER (WMC)" oversight agency*
PRODUCER "Woolpert Consultants" producer/contractor*
PRODUCTION_SYSTEM "INTERGRAPH ISPM,ISIR" production system*
STANDARD_VERSION 1996 12 version of DOQ standard*
METADATA_DATE 1997 6 5 date created or changed, yyyy mm dd*
DATA_FILE_SIZE 48678520 data set size in bytes*
BYTE_COUNT 6340 header byte count* * * * * * * * * * * * * * * * * * * * * * * * * * * * * * * * * * * * *
END_USGS_HEADER *
