BEGIN_USGS_DOQ_HEADER *
QUADRANGLE_NAME "STRAWBERRY" *
QUADRANT NW *
WEST_LONGITUDE -120 7 30.000 *
EAST_LONGITUDE -120 3 45.000 *
NORTH_LATITUDE 38 15 0.000 *
SOUTH_LATITUDE 38 11 15.000 *
PRODUCTION_DATE 2000 11 6 *
RASTER_ORDER LEFT_RIGHT/TOP_BOTTOM *
BAND_ORGANIZATION "SINGLE FILE" *
BAND_CONTENT BLACK&WHITE *
BITS_PER_PIXEL 8 *
SAMPLES_AND_LINES 6380 7721 *
HORIZONTAL_DATUM NAD83 *
HORIZONTAL_COORDINATE_SYSTEM UTM *
COORDINATE_ZONE 10 *
HORIZONTAL_UNITS METERS *
HORIZONTAL_RESOLUTION 1.0 *
SECONDARY_HORIZONTAL_DATUM NAD27 *
XY_ORIGIN 751193.711 4237934.624 *
SECONDARY_XY_ORIGIN 751289.223 4237740.484 *
NATION US *
STATE CA *
NW_QUAD_CORNER_XY 751582.889 4237463.193 *
NE_QUAD_CORNER_XY 757053.198 4237635.124 *
SE_QUAD_CORNER_XY 757273.421 4230698.204 *
SW_QUAD_CORNER_XY 751798.415 4230526.363 *
SECONDARY_NW_QUAD_XY 751589.224 4237257.023 *
SECONDARY_NE_QUAD_XY 757059.671 4237428.958 *
SECONDARY_SE_QUAD_XY 757279.888 4230492.184 *
SECONDARY_SW_QUAD_XY 751804.745 4230320.340 *
RMSE_XY 2.83 *
IMAGE_SOURCE "BLACK AND WHITE FILM" *
SOURCE_IMAGE_ID "NAPP 10557 50" *
SOURCE_IMAGE_DATE 1998 8 29 *
SOURCE_IMAGE_ID "NAPP 10557 49" *
SOURCE_IMAGE_DATE 1998 8 29 *
SOURCE_IMAGE_ID "NAPP 10554 132" *
SOURCE_IMAGE_DATE 1998 8 25 *
SOURCE_IMAGE_ID "NAPP 10555 126" *
SOURCE_IMAGE_DATE 1998 8 26 *
SOURCE_IMAGE_ID "NAPP 10555 125" *
SOURCE_IMAGE_DATE 1998 8 26 *
SOURCE_IMAGE_ID "NAPP 10555 124" *
SOURCE_IMAGE_DATE 1998 8 26 *
SOURCE_IMAGE_ID "NAPP 10565 43" *
SOURCE_IMAGE_DATE 1998 9 19 *
SOURCE_IMAGE_ID "NAPP 10565 42" *
SOURCE_IMAGE_DATE 1998 9 19 *
SOURCE_IMAGE_ID "NAPP 10565 41" *
SOURCE_IMAGE_DATE 1998 9 19 *
SOURCE_DEM_DATE 2000 0 0 *
AGENCY "WESTERN MAPPING CENTER (WMC)" *
PRODUCER "USDA FS GEOSPATIAL SERVICE AND TECHNOLOGY CENTER" *
PRODUCTION_SYSTEM "ORBIT OR_RECTIFY V.5.2" *
STANDARD_VERSION 1996 12 *
METADATA_DATE 2000 11 16 *
DATA_FILE_SIZE 49266360 *
BYTE_COUNT 6380 * * * * * * * * * * * * * * * * * * * * *
END_USGS_HEADER *
