BEGIN_USGS_DOQ_HEADER *
QUADRANGLE_NAME "STRAWBERRY" *
QUADRANT SE *
WEST_LONGITUDE -120 3 45.000 *
EAST_LONGITUDE -120 0 0.000 *
NORTH_LATITUDE 38 11 15.000 *
SOUTH_LATITUDE 38 7 30.000 *
PRODUCTION_DATE 2000 11 6 *
RASTER_ORDER LEFT_RIGHT/TOP_BOTTOM *
BAND_ORGANIZATION "SINGLE FILE" *
BAND_CONTENT BLACK&WHITE *
BITS_PER_PIXEL 8 *
SAMPLES_AND_LINES 6389 7724 *
HORIZONTAL_DATUM NAD83 *
HORIZONTAL_COORDINATE_SYSTEM UTM *
COORDINATE_ZONE 10 *
HORIZONTAL_UNITS METERS *
HORIZONTAL_RESOLUTION 1.0 *
SECONDARY_HORIZONTAL_DATUM NAD27 *
XY_ORIGIN 756884.912 4231173.749 *
SECONDARY_XY_ORIGIN 756980.388 4230979.709 *
NATION US *
STATE CA *
NW_QUAD_CORNER_XY 757273.421 4230698.204 *
NE_QUAD_CORNER_XY 762748.499 4230873.749 *
SE_QUAD_CORNER_XY 762973.105 4223936.790 *
SW_QUAD_CORNER_XY 757493.336 4223761.339 *
SECONDARY_NW_QUAD_XY 757279.888 4230492.184 *
SECONDARY_NE_QUAD_XY 762755.104 4230667.734 *
SECONDARY_SE_QUAD_XY 762979.705 4223730.922 *
SECONDARY_SW_QUAD_XY 757499.799 4223555.466 *
RMSE_XY 2.83 *
IMAGE_SOURCE "BLACK AND WHITE FILM" *
SOURCE_IMAGE_ID "NAPP 10565 44" *
SOURCE_IMAGE_DATE 1998 9 19 *
SOURCE_IMAGE_ID "NAPP 10565 45" *
SOURCE_IMAGE_DATE 1998 9 19 *
SOURCE_IMAGE_ID "NAPP 10565 43" *
SOURCE_IMAGE_DATE 1998 9 19 *
SOURCE_IMAGE_ID "NAPP 10557 47" *
SOURCE_IMAGE_DATE 1998 8 29 *
SOURCE_IMAGE_ID "NAPP 10557 48" *
SOURCE_IMAGE_DATE 1998 8 29 *
SOURCE_IMAGE_ID "NAPP 10557 49" *
SOURCE_IMAGE_DATE 1998 8 29 *
SOURCE_IMAGE_ID "NAPP 10554 42" *
SOURCE_IMAGE_DATE 1998 8 25 *
SOURCE_IMAGE_ID "NAPP 10554 43" *
SOURCE_IMAGE_DATE 1998 8 25 *
SOURCE_IMAGE_ID "NAPP 10554 44" *
SOURCE_IMAGE_DATE 1998 8 25 *
SOURCE_DEM_DATE 2000 0 0 *
AGENCY "WESTERN MAPPING CENTER (WMC)" *
PRODUCER "USDA FS GEOSPATIAL SERVICE AND TECHNOLOGY CENTER" *
PRODUCTION_SYSTEM "ORBIT OR_RECTIFY V.5.2" *
STANDARD_VERSION 1996 12 *
METADATA_DATE 2000 11 16 *
DATA_FILE_SIZE 49355025 *
BYTE_COUNT 6389 * * * * * * * * * * * * * * * * * * * * *
END_USGS_HEADER *
