BEGIN_USGS_DOQ_HEADER *
QUADRANGLE_NAME "CRANDALL PEAK" *
QUADRANT SE *
WEST_LONGITUDE -120 11 15.000 *
EAST_LONGITUDE -120 7 30.000 *
NORTH_LATITUDE 38 11 15.000 *
SOUTH_LATITUDE 38 7 30.000 *
PRODUCTION_DATE 2000 11 3 *
RASTER_ORDER LEFT_RIGHT/TOP_BOTTOM *
BAND_ORGANIZATION "SINGLE FILE" *
BAND_CONTENT BLACK&WHITE *
BITS_PER_PIXEL 8 *
SAMPLES_AND_LINES 6380 7716 *
HORIZONTAL_DATUM NAD83 *
HORIZONTAL_COORDINATE_SYSTEM UTM *
COORDINATE_ZONE 10 *
HORIZONTAL_UNITS METERS *
HORIZONTAL_RESOLUTION 1.0 *
SECONDARY_HORIZONTAL_DATUM NAD27 *
XY_ORIGIN 745934.097 4230826.363 *
SECONDARY_XY_ORIGIN 746029.676 4230632.067 *
NATION US *
STATE CA *
NW_QUAD_CORNER_XY 746323.480 4230358.227 *
NE_QUAD_CORNER_XY 751798.415 4230526.363 *
SE_QUAD_CORNER_XY 752013.641 4223589.589 *
SW_QUAD_CORNER_XY 746534.017 4223421.542 *
SECONDARY_NW_QUAD_XY 746329.672 4230152.199 *
SECONDARY_NE_QUAD_XY 751804.745 4230320.340 *
SECONDARY_SE_QUAD_XY 752019.965 4223383.713 *
SECONDARY_SW_QUAD_XY 746540.204 4223215.661 *
RMSE_XY 1.58 *
IMAGE_SOURCE "BLACK AND WHITE FILM" *
SOURCE_IMAGE_ID "NAPP 10555 127" *
SOURCE_IMAGE_DATE 1998 8 26 *
SOURCE_IMAGE_ID "NAPP 10549 55" *
SOURCE_IMAGE_DATE 1998 8 20 *
SOURCE_IMAGE_ID "NAPP 10555 126" *
SOURCE_IMAGE_DATE 1998 8 26 *
SOURCE_IMAGE_ID "NAPP 10549 228" *
SOURCE_IMAGE_DATE 1998 8 20 *
SOURCE_IMAGE_ID "NAPP 10549 229" *
SOURCE_IMAGE_DATE 1998 8 20 *
SOURCE_IMAGE_ID "NAPP 10549 230" *
SOURCE_IMAGE_DATE 1998 8 20 *
SOURCE_IMAGE_ID "NAPP 10557 47" *
SOURCE_IMAGE_DATE 1998 8 29 *
SOURCE_IMAGE_ID "NAPP 10557 48" *
SOURCE_IMAGE_DATE 1998 8 29 *
SOURCE_IMAGE_ID "NAPP 10557 49" *
SOURCE_IMAGE_DATE 1998 8 29 *
SOURCE_DEM_DATE 2000 0 0 *
AGENCY "WESTERN MAPPING CENTER (WMC)" *
PRODUCER "USDA FS GEOSPATIAL SERVICE AND TECHNOLOGY CENTER" *
PRODUCTION_SYSTEM "ORBIT OR_RECTIFY V.5.2" *
STANDARD_VERSION 1996 12 *
METADATA_DATE 2000 11 16 *
DATA_FILE_SIZE 49234460 *
BYTE_COUNT 6380 * * * * * * * * * * * * * * * * * * * * *
END_USGS_HEADER *
