BEGIN_USGS_DOQ_HEADER *
QUADRANGLE_NAME "CRANDALL PEAK" *
QUADRANT SW *
WEST_LONGITUDE -120 15 0.000 *
EAST_LONGITUDE -120 11 15.000 *
NORTH_LATITUDE 38 11 15.000 *
SOUTH_LATITUDE 38 7 30.000 *
PRODUCTION_DATE 2000 11 3 *
RASTER_ORDER LEFT_RIGHT/TOP_BOTTOM *
BAND_ORGANIZATION "SINGLE FILE" *
BAND_CONTENT BLACK&WHITE *
BITS_PER_PIXEL 8 *
SAMPLES_AND_LINES 6375 7712 *
HORIZONTAL_DATUM NAD83 *
HORIZONTAL_COORDINATE_SYSTEM UTM *
COORDINATE_ZONE 10 *
HORIZONTAL_UNITS METERS *
HORIZONTAL_RESOLUTION 1.0 *
SECONDARY_HORIZONTAL_DATUM NAD27 *
XY_ORIGIN 740459.544 4230658.227 *
SECONDARY_XY_ORIGIN 740555.175 4230463.808 *
NATION US *
STATE CA *
NW_QUAD_CORNER_XY 740848.615 4230193.794 *
NE_QUAD_CORNER_XY 746323.480 4230358.227 *
SE_QUAD_CORNER_XY 746534.017 4223421.542 *
SW_QUAD_CORNER_XY 741054.463 4223257.197 *
SECONDARY_NW_QUAD_XY 740854.670 4229987.763 *
SECONDARY_NE_QUAD_XY 746329.672 4230152.199 *
SECONDARY_SE_QUAD_XY 746540.204 4223215.661 *
SECONDARY_SW_QUAD_XY 741060.513 4223051.313 *
RMSE_XY 1.58 *
IMAGE_SOURCE "BLACK AND WHITE FILM" *
SOURCE_IMAGE_ID "NAPP 10549 229" *
SOURCE_IMAGE_DATE 1998 8 20 *
SOURCE_IMAGE_ID "NAPP 10549 228" *
SOURCE_IMAGE_DATE 1998 8 20 *
SOURCE_IMAGE_ID "NAPP 10549 230" *
SOURCE_IMAGE_DATE 1998 8 20 *
SOURCE_IMAGE_ID "NAPP 10557 73" *
SOURCE_IMAGE_DATE 1998 8 29 *
SOURCE_IMAGE_ID "NAPP 10557 74" *
SOURCE_IMAGE_DATE 1998 8 29 *
SOURCE_IMAGE_ID "NAPP 10557 75" *
SOURCE_IMAGE_DATE 1998 8 29 *
SOURCE_IMAGE_ID "NAPP 10549 55" *
SOURCE_IMAGE_DATE 1998 8 20 *
SOURCE_IMAGE_ID "NAPP 10555 127" *
SOURCE_IMAGE_DATE 1998 8 26 *
SOURCE_IMAGE_ID "NAPP 10555 126" *
SOURCE_IMAGE_DATE 1998 8 26 *
SOURCE_DEM_DATE 2000 0 0 *
AGENCY "WESTERN MAPPING CENTER (WMC)" *
PRODUCER "USDA FS GEOSPATIAL SERVICE AND TECHNOLOGY CENTER" *
PRODUCTION_SYSTEM "ORBIT OR_RECTIFY V.5.2" *
STANDARD_VERSION 1996 12 *
METADATA_DATE 2000 11 16 *
DATA_FILE_SIZE 49170375 *
BYTE_COUNT 6375 * * * * * * * * * * * * * * * * * * * * *
END_USGS_HEADER *
