BEGIN_USGS_DOQ_HEADER *
QUADRANGLE_NAME "MURPHYS" *
QUADRANT SW *
WEST_LONGITUDE -120 30 0.000 *
EAST_LONGITUDE -120 26 15.000 *
NORTH_LATITUDE 38 11 15.000 *
SOUTH_LATITUDE 38 7 30.000 *
PRODUCTION_DATE 2000 11 3 *
RASTER_ORDER LEFT_RIGHT/TOP_BOTTOM *
BAND_ORGANIZATION "SINGLE FILE" *
BAND_CONTENT BLACK&WHITE *
BITS_PER_PIXEL 8 *
SAMPLES_AND_LINES 6357 7697 *
HORIZONTAL_DATUM NAD83 *
HORIZONTAL_COORDINATE_SYSTEM UTM *
COORDINATE_ZONE 10 *
HORIZONTAL_UNITS METERS *
HORIZONTAL_RESOLUTION 1.0 *
SECONDARY_HORIZONTAL_DATUM NAD27 *
XY_ORIGIN 718559.877 4230022.208 *
SECONDARY_XY_ORIGIN 718655.831 4229827.632 *
NATION US *
STATE CA *
NW_QUAD_CORNER_XY 718949.819 4229573.083 *
NE_QUAD_CORNER_XY 724424.422 4229722.708 *
SE_QUAD_CORNER_XY 724616.208 4222786.362 *
SW_QUAD_CORNER_XY 719136.920 4222636.817 *
SECONDARY_NW_QUAD_XY 718955.324 4229367.036 *
SECONDARY_NE_QUAD_XY 724430.063 4229516.666 *
SECONDARY_SE_QUAD_XY 724621.845 4222580.467 *
SECONDARY_SW_QUAD_XY 719142.420 4222430.917 *
RMSE_XY 1.58 *
IMAGE_SOURCE "BLACK AND WHITE FILM" *
SOURCE_IMAGE_ID "NAPP 10545 144" *
SOURCE_IMAGE_DATE 1998 8 15 *
SOURCE_IMAGE_ID "NAPP 10545 143" *
SOURCE_IMAGE_DATE 1998 8 15 *
SOURCE_IMAGE_ID "NAPP 10545 145" *
SOURCE_IMAGE_DATE 1998 8 15 *
SOURCE_IMAGE_ID "NAPP 10557 103" *
SOURCE_IMAGE_DATE 1998 8 29 *
SOURCE_IMAGE_ID "NAPP 10557 104" *
SOURCE_IMAGE_DATE 1998 8 29 *
SOURCE_IMAGE_ID "NAPP 10557 105" *
SOURCE_IMAGE_DATE 1998 8 29 *
SOURCE_DEM_DATE 2000 0 0 *
AGENCY "WESTERN MAPPING CENTER (WMC)" *
PRODUCER "USDA FS GEOSPATIAL SERVICE AND TECHNOLOGY CENTER" *
PRODUCTION_SYSTEM "ORBIT OR_RECTIFY V.5.2" *
STANDARD_VERSION 1996 12 *
METADATA_DATE 2000 11 16 *
DATA_FILE_SIZE 48936186 *
BYTE_COUNT 6357 * * * * * * * * * * * * * * * * * * * * * * * * * * *
END_USGS_HEADER *
