FILENAME: 38120B52
QUADRANGLE_NAME: CALAVERITAS
QUADRANT: NE
WEST_LONGITUDE: -120 33 45.00000
EAST_LONGITUDE: -120 30 0.00000
NORTH_LATITUDE: 38 15 0.00000
SOUTH_LATITUDE: 38 11 15.00000
PRODUCTION_DATE: 2001 12 19
RASTER_ORDER: LEFT_RIGHT/TOP_BOTTOM
BAND_ORGANIZATION: SINGLE FILE
BAND_CONTENT: BLACK&WHITE
BAND_CONTENT: UNDEFINED
BAND_CONTENT: UNDEFINED
BITS_PER_PIXEL: 8
SAMPLES_AND_LINES: 6360 7710
HORIZONTAL_DATUM: NAD83
HORIZONTAL_COORDINATE_SYSTEM: UTM
COORDINATE_ZONE: 10
HORIZONTAL_UNITS: METERS
HORIZONTAL_RESOLUTION: 1.00000
SECONDARY_HORIZONTAL_DATUM: NAD27
XY_ORIGIN: 712890.00000 4236810.00000
SECONDARY_XY_ORIGIN: 712986.06800 4236615.40800
NATION: US
STATE: CA
NW_QUAD_CORNER_XY: 713292.60900 4236363.40800
NE_QUAD_CORNER_XY: 718762.45800 4236509.40900
SE_QUAD_CORNERY_XY: 718949.81900 4229573.08300
SW_QUAD_CORNER_XY: 713475.27900 4229427.15900
SECONDARY_NW_QUAD_XY: 713297.97600 4236157.21100
SECONDARY_NE_QUAD_XY: 718767.96200 4236303.21600
SECONDARY_SE_QUAD_XY: 718955.32000 4229367.03600
SECONDARY_SW_QUAD_XY: 713480.64200 4229221.10800
RMSE_XY: 2.60000
IMAGE_SOURCE: BLACK AND WHITE FILM
SOURCE_IMAGE_ID: NAPP 10545 149
SOURCE_IMAGE_DATE: 1998 08 15
SOURCE_IMAGE_ID: NAPP 10545 260
SOURCE_IMAGE_DATE: 1998 08 15
SOURCE_IMAGE_ID: NAPP 10549 53
SOURCE_IMAGE_DATE: 1998 08 20
SOURCE_IMAGE_ID: NAPA 10545 151
SOURCE_IMAGE_DATE: 1998 08 15
SOURCE_DEM_DATE: 1962 00 00
AGENCY: WESTERN MAPPING CENTER (WMC)
PRODUCER: SANBORN COLORADO, L.L.C.
PRODUCTION_SYSTEM: ORBIT OR_RECTIFY V.5.2
COMPRESSION: UNDEFINED
STANDARD_VERSION: 1996 12
METADATA_DATE: 2002 01 04
DATA_FILE_SIZE: 49041960
BYTE_COUNT: 6360
