FILENAME: 38120B51
QUADRANGLE_NAME: CALAVERITAS
QUADRANT: NW
WEST_LONGITUDE: -120 37 30.00000
EAST_LONGITUDE: -120 33 45.00000
NORTH_LATITUDE: 38 15 0.00000
SOUTH_LATITUDE: 38 11 15.00000
PRODUCTION_DATE: 2001 12 19
RASTER_ORDER: LEFT_RIGHT/TOP_BOTTOM
BAND_ORGANIZATION: SINGLE FILE
BAND_CONTENT: BLACK&WHITE
BAND_CONTENT: UNDEFINED
BAND_CONTENT: UNDEFINED
BITS_PER_PIXEL: 8
SAMPLES_AND_LINES: 6360 7740
HORIZONTAL_DATUM: NAD83
HORIZONTAL_COORDINATE_SYSTEM: UTM
COORDINATE_ZONE: 10
HORIZONTAL_UNITS: METERS
HORIZONTAL_RESOLUTION: 1.00000
SECONDARY_HORIZONTAL_DATUM: NAD27
XY_ORIGIN: 707430.00000 4236690.00000
SECONDARY_XY_ORIGIN: 707526.14100 4236495.34100
NATION: US
STATE: CA
NW_QUAD_CORNER_XY: 707822.82000 4236221.10900
NE_QUAD_CORNER_XY: 713292.60900 4236363.40800
SE_QUAD_CORNERY_XY: 713475.27900 4229427.15900
SW_QUAD_CORNER_XY: 708000.79900 4229284.93400
SECONDARY_NW_QUAD_XY: 707828.04900 4236014.90800
SECONDARY_NE_QUAD_XY: 713297.97600 4236157.21100
SECONDARY_SE_QUAD_XY: 713480.64200 4229221.10800
SECONDARY_SW_QUAD_XY: 708006.02400 4229078.88000
RMSE_XY: 2.83000
IMAGE_SOURCE: BLACK AND WHITE FILM
SOURCE_IMAGE_ID: NAPP 10545 260
SOURCE_IMAGE_DATE: 1998 08 15
SOURCE_IMAGE_ID: NAPP 10561 26
SOURCE_IMAGE_DATE: 1998 09 16
SOURCE_IMAGE_ID: NAPP 10545 258
SOURCE_IMAGE_DATE: 1998 08 15
SOURCE_DEM_DATE: 1962 00 00
AGENCY: WESTERN MAPPING CENTER (WMC)
PRODUCER: SANBORN COLORADO, L.L.C.
PRODUCTION_SYSTEM: ORBIT OR_RECTIFY V.5.2
COMPRESSION: UNDEFINED
STANDARD_VERSION: 1996 12
METADATA_DATE: 2002 01 04
DATA_FILE_SIZE: 49232760
BYTE_COUNT: 6360
