FILENAME: 38120B61
QUADRANGLE_NAME: SAN ANDREAS
QUADRANT: NW
WEST_LONGITUDE: -120 45 0.00000
EAST_LONGITUDE: -120 41 15.00000
NORTH_LATITUDE: 38 15 0.00000
SOUTH_LATITUDE: 38 11 15.00000
PRODUCTION_DATE: 2001 12 13
RASTER_ORDER: LEFT_RIGHT/TOP_BOTTOM
BAND_ORGANIZATION: SINGLE FILE
BAND_CONTENT: BLACK&WHITE
BAND_CONTENT: UNDEFINED
BAND_CONTENT: UNDEFINED
BITS_PER_PIXEL: 8
SAMPLES_AND_LINES: 6360 7710
HORIZONTAL_DATUM: NAD83
HORIZONTAL_COORDINATE_SYSTEM: UTM
COORDINATE_ZONE: 10
HORIZONTAL_UNITS: METERS
HORIZONTAL_RESOLUTION: 1.00000
SECONDARY_HORIZONTAL_DATUM: NAD27
XY_ORIGIN: 696480.00000 4236390.00000
SECONDARY_XY_ORIGIN: 696576.28700 4236195.20500
NATION: US
STATE: CA
NW_QUAD_CORNER_XY: 696883.41500 4235947.61500
NE_QUAD_CORNER_XY: 702353.08900 4236082.51100
SE_QUAD_CORNERY_XY: 702526.37700 4229146.41000
SW_QUAD_CORNER_XY: 697052.01300 4229011.58500
SECONDARY_NW_QUAD_XY: 696888.36900 4235741.40800
SECONDARY_NE_QUAD_XY: 702358.18100 4235876.30700
SECONDARY_SE_QUAD_XY: 702531.46500 4228940.35300
SECONDARY_SW_QUAD_XY: 697056.96300 4228805.52400
RMSE_XY: 2.56000
IMAGE_SOURCE: BLACK AND WHITE FILM
SOURCE_IMAGE_ID: NAPP 10546 125
SOURCE_IMAGE_DATE: 1998 08 15
SOURCE_IMAGE_ID: NAPP 10561 26
SOURCE_IMAGE_DATE: 1998 09 16
SOURCE_IMAGE_ID: NAPP 10546 123
SOURCE_IMAGE_DATE: 1998 08 15
SOURCE_IMAGE_ID: NAPP 10546 127
SOURCE_IMAGE_DATE: 1998 08 15
SOURCE_DEM_DATE: 1962 00 00
AGENCY: WESTERN MAPPING CENTER (WMC)
PRODUCER: SANBORN COLORADO, L.L.C.
PRODUCTION_SYSTEM: ORBIT OR_RECTIFY V.5.2
COMPRESSION: UNDEFINED
STANDARD_VERSION: 1996 12
METADATA_DATE: 2001 12 17
DATA_FILE_SIZE: 49041960
BYTE_COUNT: 6360
