FILENAME: 38120B63
QUADRANGLE_NAME: SAN ANDREAS
QUADRANT: SE
WEST_LONGITUDE: -120 41 15.00000
EAST_LONGITUDE: -120 37 30.00000
NORTH_LATITUDE: 38 11 15.00000
SOUTH_LATITUDE: 38 7 30.00000
PRODUCTION_DATE: 2001 12 13
RASTER_ORDER: LEFT_RIGHT/TOP_BOTTOM
BAND_ORGANIZATION: SINGLE FILE
BAND_CONTENT: BLACK&WHITE
BAND_CONTENT: UNDEFINED
BAND_CONTENT: UNDEFINED
BITS_PER_PIXEL: 8
SAMPLES_AND_LINES: 6360 7740
HORIZONTAL_DATUM: NAD83
HORIZONTAL_COORDINATE_SYSTEM: UTM
COORDINATE_ZONE: 10
HORIZONTAL_UNITS: METERS
HORIZONTAL_RESOLUTION: 1.00000
SECONDARY_HORIZONTAL_DATUM: NAD27
XY_ORIGIN: 702120.00000 4229610.00000
SECONDARY_XY_ORIGIN: 702216.23100 4229415.21300
NATION: US
STATE: CA
NW_QUAD_CORNER_XY: 702526.37700 4229146.41000
NE_QUAD_CORNER_XY: 708000.79900 4229284.93400
SE_QUAD_CORNERY_XY: 708178.52900 4222348.82100
SW_QUAD_CORNER_XY: 702699.42300 4222210.37100
SECONDARY_NW_QUAD_XY: 702531.46500 4228940.35300
SECONDARY_NE_QUAD_XY: 708006.02400 4229078.88000
SECONDARY_SE_QUAD_XY: 708183.75000 4222142.91500
SECONDARY_SW_QUAD_XY: 702704.50700 4222004.46100
RMSE_XY: 2.83000
IMAGE_SOURCE: BLACK AND WHITE FILM
SOURCE_IMAGE_ID: NAPP 10561 28
SOURCE_IMAGE_DATE: 1998 09 16
SOURCE_IMAGE_ID: NAPP 10561 26
SOURCE_IMAGE_DATE: 1998 09 16
SOURCE_DEM_DATE: 1962 00 00
AGENCY: WESTERN MAPPING CENTER (WMC)
PRODUCER: SANBORN COLORADO, L.L.C.
PRODUCTION_SYSTEM: ORBIT OR_RECTIFY V.5.2
COMPRESSION: UNDEFINED
STANDARD_VERSION: 1996 12
METADATA_DATE: 2001 12 18
DATA_FILE_SIZE: 49232760
BYTE_COUNT: 6360
