BEGIN_USGS_DOQ_HEADER *
QUADRANGLE_NAME "LIBERTY HILL" *
QUADRANT NE *
WEST_LONGITUDE -120 3 45.000 *
EAST_LONGITUDE -120 0 0.000 *
NORTH_LATITUDE 38 22 30.000 *
SOUTH_LATITUDE 38 18 45.000 *
PRODUCTION_DATE 2000 11 6 *
RASTER_ORDER LEFT_RIGHT/TOP_BOTTOM *
BAND_ORGANIZATION "SINGLE FILE" *
BAND_CONTENT BLACK&WHITE *
BITS_PER_PIXEL 8 *
SAMPLES_AND_LINES 6375 7725 *
HORIZONTAL_DATUM NAD83 *
HORIZONTAL_COORDINATE_SYSTEM UTM *
COORDINATE_ZONE 10 *
HORIZONTAL_UNITS METERS *
HORIZONTAL_RESOLUTION 1.0 *
SECONDARY_HORIZONTAL_DATUM NAD27 *
XY_ORIGIN 756223.482 4251984.448 *
SECONDARY_XY_ORIGIN 756318.814 4251790.426 *
NATION US *
STATE CA *
NW_QUAD_CORNER_XY 756611.834 4251509.128 *
NE_QUAD_CORNER_XY 762072.801 4251684.948 *
SE_QUAD_CORNER_XY 762298.347 4244747.828 *
SW_QUAD_CORNER_XY 756832.669 4244572.099 *
SECONDARY_NW_QUAD_XY 756618.315 4251302.672 *
SECONDARY_NE_QUAD_XY 762079.421 4251478.496 *
SECONDARY_SE_QUAD_XY 762304.962 4244541.521 *
SECONDARY_SW_QUAD_XY 756839.146 4244365.787 *
RMSE_XY 2.83 *
IMAGE_SOURCE "BLACK AND WHITE FILM" *
SOURCE_IMAGE_ID "NAPP 10565 38" *
SOURCE_IMAGE_DATE 1998 9 19 *
SOURCE_IMAGE_ID "NAPP 10565 39" *
SOURCE_IMAGE_DATE 1998 9 19 *
SOURCE_IMAGE_ID "NAPP 10565 37" *
SOURCE_IMAGE_DATE 1998 9 19 *
SOURCE_IMAGE_ID "NAPP 10554 134" *
SOURCE_IMAGE_DATE 1998 8 25 *
SOURCE_IMAGE_ID "NAPP 10554 135" *
SOURCE_IMAGE_DATE 1998 8 25 *
SOURCE_IMAGE_ID "NAPP 10554 136" *
SOURCE_IMAGE_DATE 1998 8 25 *
SOURCE_IMAGE_ID "NAPP 10554 48" *
SOURCE_IMAGE_DATE 1998 8 25 *
SOURCE_IMAGE_ID "NAPP 10554 49" *
SOURCE_IMAGE_DATE 1998 8 25 *
SOURCE_IMAGE_ID "NAPP 10554 50" *
SOURCE_IMAGE_DATE 1998 8 25 *
SOURCE_DEM_DATE 1997 0 0 *
AGENCY "WESTERN MAPPING CENTER (WMC)" *
PRODUCER "USDA FS GEOSPATIAL SERVICE AND TECHNOLOGY CENTER" *
PRODUCTION_SYSTEM "ORBIT OR_RECTIFY V.5.2" *
STANDARD_VERSION 1996 12 *
METADATA_DATE 2000 11 16 *
DATA_FILE_SIZE 49253250 *
BYTE_COUNT 6375 * * * * * * * * * * * * * * * * * * * * *
END_USGS_HEADER *
