BEGIN_USGS_DOQ_HEADER *
QUADRANGLE_NAME "LIBERTY HILL" *
QUADRANT SE *
WEST_LONGITUDE -120 3 45.000 *
EAST_LONGITUDE -120 0 0.000 *
NORTH_LATITUDE 38 18 45.000 *
SOUTH_LATITUDE 38 15 0.000 *
PRODUCTION_DATE 2000 11 6 *
RASTER_ORDER LEFT_RIGHT/TOP_BOTTOM *
BAND_ORGANIZATION "SINGLE FILE" *
BAND_CONTENT BLACK&WHITE *
BITS_PER_PIXEL 8 *
SAMPLES_AND_LINES 6380 7725 *
HORIZONTAL_DATUM NAD83 *
HORIZONTAL_COORDINATE_SYSTEM UTM *
COORDINATE_ZONE 10 *
HORIZONTAL_UNITS METERS *
HORIZONTAL_RESOLUTION 1.0 *
SECONDARY_HORIZONTAL_DATUM NAD27 *
XY_ORIGIN 756443.757 4245047.328 *
SECONDARY_XY_ORIGIN 756539.146 4244853.310 *
NATION US *
STATE CA *
NW_QUAD_CORNER_XY 756832.669 4244572.099 *
NE_QUAD_CORNER_XY 762298.347 4244747.828 *
SE_QUAD_CORNER_XY 762523.580 4237810.761 *
SW_QUAD_CORNER_XY 757053.198 4237635.124 *
SECONDARY_NW_QUAD_XY 756839.146 4244365.787 *
SECONDARY_NE_QUAD_XY 762304.962 4244541.521 *
SECONDARY_SE_QUAD_XY 762530.190 4237604.600 *
SECONDARY_SW_QUAD_XY 757059.671 4237428.958 *
RMSE_XY 2.83 *
IMAGE_SOURCE "BLACK AND WHITE FILM" *
SOURCE_IMAGE_ID "NAPP 10565 40" *
SOURCE_IMAGE_DATE 1998 9 19 *
SOURCE_IMAGE_ID "NAPP 10565 41" *
SOURCE_IMAGE_DATE 1998 9 19 *
SOURCE_IMAGE_ID "NAPP 10565 39" *
SOURCE_IMAGE_DATE 1998 9 19 *
SOURCE_IMAGE_ID "NAPP 10554 132" *
SOURCE_IMAGE_DATE 1998 8 25 *
SOURCE_IMAGE_ID "NAPP 10554 133" *
SOURCE_IMAGE_DATE 1998 8 25 *
SOURCE_IMAGE_ID "NAPP 10554 134" *
SOURCE_IMAGE_DATE 1998 8 25 *
SOURCE_IMAGE_ID "NAPP 10554 46" *
SOURCE_IMAGE_DATE 1998 8 25 *
SOURCE_IMAGE_ID "NAPP 10554 47" *
SOURCE_IMAGE_DATE 1998 8 25 *
SOURCE_IMAGE_ID "NAPP 10554 48" *
SOURCE_IMAGE_DATE 1998 8 25 *
SOURCE_DEM_DATE 1997 0 0 *
AGENCY "WESTERN MAPPING CENTER (WMC)" *
PRODUCER "USDA FS GEOSPATIAL SERVICE AND TECHNOLOGY CENTER" *
PRODUCTION_SYSTEM "ORBIT OR_RECTIFY V.5.2" *
STANDARD_VERSION 1996 12 *
METADATA_DATE 2000 11 16 *
DATA_FILE_SIZE 49291880 *
BYTE_COUNT 6380 * * * * * * * * * * * * * * * * * * * * *
END_USGS_HEADER *
