FILENAME: 38120C51
QUADRANGLE_NAME: RAIL ROAD FLAT
QUADRANT: NW
WEST_LONGITUDE: -120 37 30.00000
EAST_LONGITUDE: -120 33 45.00000
NORTH_LATITUDE: 38 22 30.00000
SOUTH_LATITUDE: 38 18 45.00000
PRODUCTION_DATE: 2001 12 19
RASTER_ORDER: LEFT_RIGHT/TOP_BOTTOM
BAND_ORGANIZATION: SINGLE FILE
BAND_CONTENT: BLACK&WHITE
BAND_CONTENT: UNDEFINED
BAND_CONTENT: UNDEFINED
BITS_PER_PIXEL: 8
SAMPLES_AND_LINES: 6360 7710
HORIZONTAL_DATUM: NAD83
HORIZONTAL_COORDINATE_SYSTEM: UTM
COORDINATE_ZONE: 10
HORIZONTAL_UNITS: METERS
HORIZONTAL_RESOLUTION: 1.00000
SECONDARY_HORIZONTAL_DATUM: NAD27
XY_ORIGIN: 707070.00000 4250550.00000
SECONDARY_XY_ORIGIN: 707165.91300 4250355.55000
NATION: US
STATE: CA
NW_QUAD_CORNER_XY: 707466.11900 4250093.64100
NE_QUAD_CORNER_XY: 712926.50600 4250236.08900
SE_QUAD_CORNERY_XY: 713109.68500 4243299.71800
SW_QUAD_CORNER_XY: 707644.59400 4243157.34400
SECONDARY_NW_QUAD_XY: 707471.35600 4249887.15000
SECONDARY_NE_QUAD_XY: 712931.88000 4250029.60100
SECONDARY_SE_QUAD_XY: 713115.05500 4243093.37500
SECONDARY_SW_QUAD_XY: 707649.82600 4242950.99800
RMSE_XY: 4.08000
IMAGE_SOURCE: BLACK AND WHITE FILM
SOURCE_IMAGE_ID: NAPP 10545 264
SOURCE_IMAGE_DATE: 1998 08 15
SOURCE_IMAGE_ID: NAPP 10546 10
SOURCE_IMAGE_DATE: 1998 08 15
SOURCE_DEM_DATE: 1946 00 00
AGENCY: WESTERN MAPPING CENTER (WMC)
PRODUCER: SANBORN COLORADO, L.L.C.
PRODUCTION_SYSTEM: ORBIT OR_RECTIFY V.5.2
COMPRESSION: UNDEFINED
STANDARD_VERSION: 1996 12
METADATA_DATE: 2002 01 04
DATA_FILE_SIZE: 49041960
BYTE_COUNT: 6360
