FILENAME: 38120C53
QUADRANGLE_NAME: RAIL ROAD FLAT
QUADRANT: SE
WEST_LONGITUDE: -120 33 45.00000
EAST_LONGITUDE: -120 30 0.00000
NORTH_LATITUDE: 38 18 45.00000
SOUTH_LATITUDE: 38 15 0.00000
PRODUCTION_DATE: 2001 12 19
RASTER_ORDER: LEFT_RIGHT/TOP_BOTTOM
BAND_ORGANIZATION: SINGLE FILE
BAND_CONTENT: BLACK&WHITE
BAND_CONTENT: UNDEFINED
BAND_CONTENT: UNDEFINED
BITS_PER_PIXEL: 8
SAMPLES_AND_LINES: 6360 7740
HORIZONTAL_DATUM: NAD83
HORIZONTAL_COORDINATE_SYSTEM: UTM
COORDINATE_ZONE: 10
HORIZONTAL_UNITS: METERS
HORIZONTAL_RESOLUTION: 1.00000
SECONDARY_HORIZONTAL_DATUM: NAD27
XY_ORIGIN: 712710.00000 4243770.00000
SECONDARY_XY_ORIGIN: 712805.95100 4243575.50600
NATION: US
STATE: CA
NW_QUAD_CORNER_XY: 713109.68500 4243299.71800
NE_QUAD_CORNER_XY: 718574.83500 4243445.79600
SE_QUAD_CORNERY_XY: 718762.45800 4236509.40900
SW_QUAD_CORNER_XY: 713292.60900 4236363.40800
SECONDARY_NW_QUAD_XY: 713115.05500 4243093.37500
SECONDARY_NE_QUAD_XY: 718580.34300 4243239.45700
SECONDARY_SE_QUAD_XY: 718767.96200 4236303.21600
SECONDARY_SW_QUAD_XY: 713297.97600 4236157.21100
RMSE_XY: 2.69000
IMAGE_SOURCE: BLACK AND WHITE FILM
SOURCE_IMAGE_ID: NAPP 10549 53
SOURCE_IMAGE_DATE: 1998 08 20
SOURCE_IMAGE_ID: NAPP 10549 51
SOURCE_IMAGE_DATE: 1998 08 20
SOURCE_IMAGE_ID: NAPP 10545 262
SOURCE_IMAGE_DATE: 1998 08 15
SOURCE_DEM_DATE: 1946 00 00
AGENCY: WESTERN MAPPING CENTER (WMC)
PRODUCER: SANBORN COLORADO, L.L.C.
PRODUCTION_SYSTEM: ORBIT OR_RECTIFY V.5.2
COMPRESSION: UNDEFINED
STANDARD_VERSION: 1996 12
METADATA_DATE: 2002 01 04
DATA_FILE_SIZE: 49232760
BYTE_COUNT: 6360
