FILENAME: 38120C61
QUADRANGLE_NAME: MOKELUMNE HILL
QUADRANT: NW
WEST_LONGITUDE: -120 45 0.00000
EAST_LONGITUDE: -120 41 15.00000
NORTH_LATITUDE: 38 22 30.00000
SOUTH_LATITUDE: 38 18 45.00000
PRODUCTION_DATE: 2001 12 11
RASTER_ORDER: LEFT_RIGHT/TOP_BOTTOM
BAND_ORGANIZATION: SINGLE FILE
BAND_CONTENT: BLACK&WHITE
BAND_CONTENT: UNDEFINED
BAND_CONTENT: UNDEFINED
BITS_PER_PIXEL: 8
SAMPLES_AND_LINES: 6330 7710
HORIZONTAL_DATUM: NAD83
HORIZONTAL_COORDINATE_SYSTEM: UTM
COORDINATE_ZONE: 10
HORIZONTAL_UNITS: METERS
HORIZONTAL_RESOLUTION: 1.00000
SECONDARY_HORIZONTAL_DATUM: NAD27
XY_ORIGIN: 696150.00000 4250280.00000
SECONDARY_XY_ORIGIN: 696246.04400 4250085.44200
NATION: US
STATE: CA
NW_QUAD_CORNER_XY: 696545.51500 4249819.86300
NE_QUAD_CORNER_XY: 702005.78900 4249954.89900
SE_QUAD_CORNERY_XY: 702179.56000 4243018.67400
SW_QUAD_CORNER_XY: 696714.58300 4242883.70800
SECONDARY_NW_QUAD_XY: 696550.47600 4249613.36500
SECONDARY_NE_QUAD_XY: 702010.88800 4249748.40500
SECONDARY_SE_QUAD_XY: 702184.65500 4242812.32500
SECONDARY_SW_QUAD_XY: 696719.54000 4242677.35400
RMSE_XY: 2.28000
IMAGE_SOURCE: BLACK AND WHITE FILM
SOURCE_IMAGE_ID: NAPP 10546 129
SOURCE_IMAGE_DATE: 1998 08 15
SOURCE_IMAGE_ID: NAPP 10546 131
SOURCE_IMAGE_DATE: 1998 08 15
SOURCE_IMAGE_ID: NAPP 10546 8
SOURCE_IMAGE_DATE: 1998 08 15
SOURCE_DEM_DATE: 1948 00 00
AGENCY: WESTERN MAPPING CENTER (WMC)
PRODUCER: SANBORN COLORADO, L.L.C.
PRODUCTION_SYSTEM: ORBIT OR_RECTIFY V.5.2
COMPRESSION: UNDEFINED
STANDARD_VERSION: 1996 12
METADATA_DATE: 2001 12 14
DATA_FILE_SIZE: 48810630
BYTE_COUNT: 6330
