FILENAME: 38120C71
QUADRANGLE_NAME: JACKSON
QUADRANT: NW
WEST_LONGITUDE: -120 52 30.00000
EAST_LONGITUDE: -120 48 45.00000
NORTH_LATITUDE: 38 22 30.00000
SOUTH_LATITUDE: 38 18 45.00000
PRODUCTION_DATE: 2001 12 11
RASTER_ORDER: LEFT_RIGHT/TOP_BOTTOM
BAND_ORGANIZATION: SINGLE FILE
BAND_CONTENT: BLACK&WHITE
BAND_CONTENT: UNDEFINED
BAND_CONTENT: UNDEFINED
BITS_PER_PIXEL: 8
SAMPLES_AND_LINES: 6330 7710
HORIZONTAL_DATUM: NAD83
HORIZONTAL_COORDINATE_SYSTEM: UTM
COORDINATE_ZONE: 10
HORIZONTAL_UNITS: METERS
HORIZONTAL_RESOLUTION: 1.00000
SECONDARY_HORIZONTAL_DATUM: NAD27
XY_ORIGIN: 685230.00000 4250010.00000
SECONDARY_XY_ORIGIN: 685326.11400 4249815.30800
NATION: US
STATE: CA
NW_QUAD_CORNER_XY: 685625.12700 4249560.90300
NE_QUAD_CORNER_XY: 691085.29500 4249688.53100
SE_QUAD_CORNERY_XY: 691249.66000 4242752.44400
SW_QUAD_CORNER_XY: 685784.79000 4242624.88200
SECONDARY_NW_QUAD_XY: 685629.81200 4249354.39900
SECONDARY_NE_QUAD_XY: 691090.11800 4249482.02900
SECONDARY_SE_QUAD_XY: 691254.47900 4242546.08700
SECONDARY_SW_QUAD_XY: 685789.47200 4242418.52200
RMSE_XY: 2.31000
IMAGE_SOURCE: BLACK AND WHITE FILM
SOURCE_IMAGE_ID: NAPP 10519 26
SOURCE_IMAGE_DATE: 1998 08 15
SOURCE_IMAGE_ID: NAPP 10519 24
SOURCE_IMAGE_DATE: 1998 08 15
SOURCE_IMAGE_ID: NAPP 10520 142
SOURCE_IMAGE_DATE: 1998 08 16
SOURCE_IMAGE_ID: NAPP 10519 28
SOURCE_IMAGE_DATE: 1998 08 15
SOURCE_DEM_DATE: 1962 00 00
AGENCY: WESTERN MAPPING CENTER (WMC)
PRODUCER: SANBORN COLORADO, L.L.C.
PRODUCTION_SYSTEM: ORBIT OR_RECTIFY V.5.2
COMPRESSION: UNDEFINED
STANDARD_VERSION: 1996 12
METADATA_DATE: 2001 12 13
DATA_FILE_SIZE: 48810630
BYTE_COUNT: 6330
