FILENAME: 38120C81
QUADRANGLE_NAME: IONE
QUADRANT: NW
WEST_LONGITUDE: -121 0 0.00000
EAST_LONGITUDE: -120 56 15.00000
NORTH_LATITUDE: 38 22 30.00000
SOUTH_LATITUDE: 38 18 45.00000
PRODUCTION_DATE: 2001 12 11
RASTER_ORDER: LEFT_RIGHT/TOP_BOTTOM
BAND_ORGANIZATION: SINGLE FILE
BAND_CONTENT: BLACK&WHITE
BAND_CONTENT: UNDEFINED
BAND_CONTENT: UNDEFINED
BITS_PER_PIXEL: 8
SAMPLES_AND_LINES: 6330 7680
HORIZONTAL_DATUM: NAD83
HORIZONTAL_COORDINATE_SYSTEM: UTM
COORDINATE_ZONE: 10
HORIZONTAL_UNITS: METERS
HORIZONTAL_RESOLUTION: 1.00000
SECONDARY_HORIZONTAL_DATUM: NAD27
XY_ORIGIN: 674310.00000 4249740.00000
SECONDARY_XY_ORIGIN: 674406.19100 4249545.16900
NATION: US
STATE: CA
NW_QUAD_CORNER_XY: 674704.94400 4249316.75900
NE_QUAD_CORNER_XY: 680165.01100 4249436.97900
SE_QUAD_CORNERY_XY: 680319.97200 4242501.02200
SW_QUAD_CORNER_XY: 674855.20400 4242380.86400
SECONDARY_NW_QUAD_XY: 674709.35300 4249110.24800
SECONDARY_NE_QUAD_XY: 680169.55800 4249230.47200
SECONDARY_SE_QUAD_XY: 680324.51600 4242294.66000
SECONDARY_SW_QUAD_XY: 674859.61000 4242174.49900
RMSE_XY: 1.22000
IMAGE_SOURCE: BLACK AND WHITE FILM
SOURCE_IMAGE_ID: NAPP 10520 193
SOURCE_IMAGE_DATE: 1998 08 16
SOURCE_IMAGE_ID: NAPP 10520 191
SOURCE_IMAGE_DATE: 1998 08 16
SOURCE_DEM_DATE: 1962 00 00
AGENCY: WESTERN MAPPING CENTER (WMC)
PRODUCER: SANBORN COLORADO, L.L.C.
PRODUCTION_SYSTEM: ORBIT OR_RECTIFY V.5.2
COMPRESSION: UNDEFINED
STANDARD_VERSION: 1996 12
METADATA_DATE: 2001 12 14
DATA_FILE_SIZE: 48620730
BYTE_COUNT: 6330
