BEGIN_USGS_DOQ_HEADER *
QUADRANGLE_NAME "IONE" 3.45 or 7.5-min. name*
QUADRANT SE quadrant indicator if cell size = 3.75-minutes*
WEST_LONGITUDE -120 56 15.000 signed deg min sec SDDD MM SS.SSS*
EAST_LONGITUDE -120 52 30.000 signed deg min sec SDDD MM SS.SSS*
NORTH_LATITUDE 38 18 45.000 signed deg min sec SDDD MM SS.SSS*
SOUTH_LATITUDE 38 15 0.000 signed deg min sec SDDD MM SS.SSS*
PRODUCTION_DATE 1996 4 20 yyyy mm dd*
RASTER_ORDER LEFT_RIGHT/TOP_BOTTOM video display order*
BAND_ORGANIZATION "SINGLE FILE" single file or BSQ, or BIL or BIP*
BAND_CONTENT BLACK&WHITE black&white or red green blue*
BITS_PER_PIXEL 8 radiometric resolution*
SAMPLES_AND_LINES 6327 7682 number of columns and rows*
HORIZONTAL_DATUM NAD83 primary horizontal datum*
HORIZONTAL_COORDINATE_SYSTEM UTM *
COORDINATE_ZONE 10 coordinate system zone number*
HORIZONTAL_UNITS METERS coordinate system units*
HORIZONTAL_RESOLUTION 1.00 pixel horiz. ground sample distance*
SECONDARY_HORIZONTAL_DATUM NAD27 secondary horizontal datum*
XY_ORIGIN 679923.500 4242929.500 coord. of upper left pixel pri. datum*
SECONDARY_XY_ORIGIN 680019.736 4242734.637 coord upper left pixel sec datum*
NATION US nation code*
STATE CA state fip code*
NW_QUAD_CORNER_XY 680319.972 4242501.022 XY coords. of pri. NW quad corner*
NE_QUAD_CORNER_XY 685784.790 4242624.882 XY coords. of pri. NE quad corner*
SE_QUAD_CORNER_XY 685944.231 4235688.925 XY coords. of pri. SE quad corner*
SW_QUAD_CORNER_XY 680474.718 4235565.130 XY coords. of pri. SW quad corner*
SECONDARY_NW_QUAD_XY 680324.516 4242294.660 XY coords. - sec. NW quad cor.*
SECONDARY_NE_QUAD_XY 685789.472 4242418.522 XY coords. - sec. NE quad cor.*
SECONDARY_SE_QUAD_XY 685948.909 4235482.711 XY coords. - sec. SE quad cor.*
SECONDARY_SW_QUAD_XY 680479.258 4235358.913 XY coords. - sec. SW quad cor.*
RMSE_XY 1.30 doq horiz. accuracy*
IMAGE_SOURCE "BLACK AND WHITE FILM" b&w, cir, natural color, other*
SOURCE_IMAGE_ID "PAPP 0350 999" source image id*
SOURCE_IMAGE_DATE 1993 5 9 source image date as yyyy mm dd*
SOURCE_DEM_DATE 1996 4 20 source dem date yyyy mm dd*
AGENCY "WESTERN MAPPING CENTER (WMC)" oversight agency*
PRODUCER "Woolpert Consultants" producer/contractor*
PRODUCTION_SYSTEM "INTERGRAPH ISPM,ISIR" production system*
STANDARD_VERSION 1996 12 version of DOQ standard*
METADATA_DATE 1997 6 4 date created or changed, yyyy mm dd*
DATA_FILE_SIZE 48610341 data set size in bytes*
BYTE_COUNT 6327 header byte count* * * * * * * * * * * * * * * * * * * * * * * * * * * * * * * * * * * * *
END_USGS_HEADER *
