BEGIN_USGS_DOQ_HEADER *
QUADRANGLE_NAME "IONE" 3.45 or 7.5-min. name*
QUADRANT SW quadrant indicator if cell size = 3.75-minutes*
WEST_LONGITUDE -121 0 0.000 signed deg min sec SDDD MM SS.SSS*
EAST_LONGITUDE -120 56 15.000 signed deg min sec SDDD MM SS.SSS*
NORTH_LATITUDE 38 18 45.000 signed deg min sec SDDD MM SS.SSS*
SOUTH_LATITUDE 38 15 0.000 signed deg min sec SDDD MM SS.SSS*
PRODUCTION_DATE 1996 4 20 yyyy mm dd*
RASTER_ORDER LEFT_RIGHT/TOP_BOTTOM video display order*
BAND_ORGANIZATION "SINGLE FILE" single file or BSQ, or BIL or BIP*
BAND_CONTENT BLACK&WHITE black&white or red green blue*
BITS_PER_PIXEL 8 radiometric resolution*
SAMPLES_AND_LINES 6322 7679 number of columns and rows*
HORIZONTAL_DATUM NAD83 primary horizontal datum*
HORIZONTAL_COORDINATE_SYSTEM UTM *
COORDINATE_ZONE 10 coordinate system zone number*
HORIZONTAL_UNITS METERS coordinate system units*
HORIZONTAL_RESOLUTION 1.00 pixel horiz. ground sample distance*
SECONDARY_HORIZONTAL_DATUM NAD27 secondary horizontal datum*
XY_ORIGIN 674458.500 4242806.500 coord. of upper left pixel pri. datum*
SECONDARY_XY_ORIGIN 674554.760 4242611.580 coord upper left pixel sec datum*
NATION US nation code*
STATE CA state fip code*
NW_QUAD_CORNER_XY 674855.200 4242380.860 XY coords. of pri. NW quad corner*
NE_QUAD_CORNER_XY 680319.970 4242501.020 XY coords. of pri. NE quad corner*
SE_QUAD_CORNER_XY 680474.720 4235565.130 XY coords. of pri. SE quad corner*
SW_QUAD_CORNER_XY 675005.260 4235445.040 XY coords. of pri. SW quad corner*
SECONDARY_NW_QUAD_XY 674859.610 4242174.500 XY coords. - sec. NW quad cor.*
SECONDARY_NE_QUAD_XY 680324.520 4242294.660 XY coords. - sec. NE quad cor.*
SECONDARY_SE_QUAD_XY 680479.260 4235358.910 XY coords. - sec. SE quad cor.*
SECONDARY_SW_QUAD_XY 675009.660 4235238.820 XY coords. - sec. SW quad cor.*
RMSE_XY 1.40 doq horiz. accuracy*
IMAGE_SOURCE "BLACK AND WHITE FILM" b&w, cir, natural color, other*
SOURCE_IMAGE_ID "PAPP 0360 202" source image id*
SOURCE_IMAGE_DATE 1993 7 9 source image date as yyyy mm dd*
SOURCE_DEM_DATE 1996 4 20 source dem date yyyy mm dd*
AGENCY "WESTERN MAPPING CENTER (WMC)" oversight agency*
PRODUCER "Woolpert Consultants" producer/contractor*
PRODUCTION_SYSTEM "INTERGRAPH ISPM,ISIR" production system*
STANDARD_VERSION 1996 12 version of DOQ standard*
METADATA_DATE 1997 6 4 date created or changed, yyyy mm dd*
DATA_FILE_SIZE 48552960 data set size in bytes*
BYTE_COUNT 6322 header byte count* * * * * * * * * * * * * * * * * * * * * * * * * * * * * * * * * * * * *
END_USGS_HEADER *
