BEGIN_USGS_DOQ_HEADER *
QUADRANGLE_NAME "TAMARACK" 3.45 or 7.5-min. name*
QUADRANT NE quadrant indicator if cell size = 3.75-minutes*
WEST_LONGITUDE -120 3 45.000 signed deg min sec SDDD MM SS.SSS*
EAST_LONGITUDE -120 0 0.000 signed deg min sec SDDD MM SS.SSS*
NORTH_LATITUDE 38 30 0.000 signed deg min sec SDDD MM SS.SSS*
SOUTH_LATITUDE 38 26 15.000 signed deg min sec SDDD MM SS.SSS*
PRODUCTION_DATE 2000 10 4 yyyy mm dd*
RASTER_ORDER LEFT_RIGHT/TOP_BOTTOM video display order*
BAND_ORGANIZATION "SINGLE FILE" single file or BSQ, or BIL or BIP*
BAND_CONTENT BLACK&WHITE black&white or red green blue*
BITS_PER_PIXEL 8 radiometric resolution*
SAMPLES_AND_LINES 6369 7729 number of columns and rows*
HORIZONTAL_DATUM NAD83 primary horizontal datum*
HORIZONTAL_COORDINATE_SYSTEM UTM *
COORDINATE_ZONE 10 coordinate system zone number*
HORIZONTAL_UNITS METERS coordinate system units*
HORIZONTAL_RESOLUTION 1.00 pixel horiz. ground sample distance*
SECONDARY_HORIZONTAL_DATUM NAD27 secondary horizontal datum*
XY_ORIGIN 755779.000 4265860.000 coord. of upper left pixel pri. datum*
SECONDARY_XY_ORIGIN 755874.216 4265665.973 coord upper left pixel sec datum*
NATION US nation code*
STATE CA state fip code*
NW_QUAD_CORNER_XY 756169.245 4265383.350 XY coords. of pri. NW quad corner*
NE_QUAD_CORNER_XY 761620.772 4265559.349 XY coords. of pri. NE quad corner*
SE_QUAD_CORNER_XY 761846.943 4258622.121 XY coords. of pri. SE quad corner*
SW_QUAD_CORNER_XY 756390.692 4258446.211 XY coords. of pri. SW quad corner*
SECONDARY_NW_QUAD_XY 756175.732 4265176.607 XY coords. - sec. NW quad cor.*
SECONDARY_NE_QUAD_XY 761627.397 4265352.611 XY coords. - sec. NE quad cor.*
SECONDARY_SE_QUAD_XY 761853.564 4258415.526 XY coords. - sec. SE quad cor.*
SECONDARY_SW_QUAD_XY 756397.175 4258239.612 XY coords. - sec. SW quad cor.*
RMSE_XY 1.40 doq horiz. accuracy*
IMAGE_SOURCE "BLACK AND WHITE FILM" b&w, cir, natural color, other*
SOURCE_IMAGE_ID "NAPP 10565 034" source image id*
SOURCE_IMAGE_DATE 1998 09 19 source image date as yyyy mm dd*
SOURCE_IMAGE_ID "NAPP 10565 035" source image id*
SOURCE_IMAGE_DATE 1998 09 19 source image date as yyyy mm dd*
SOURCE_IMAGE_ID "NAPP 10565 033" source image id*
SOURCE_IMAGE_DATE 1998 09 19 source image date as yyyy mm dd*
SOURCE_DEM_DATE 2000 01 01 source dem date yyyy mm dd*
AGENCY "WESTERN MAPPING CENTER (WMC)" oversight agency*
PRODUCER "SCIENCE APPLICATIONS INTERNATIONAL" producer/contractor*
PRODUCTION_SYSTEM "GIS/MAGIC" production system*
STANDARD_VERSION 1996 12 version of DOQ standard*
METADATA_DATE 2000 12 04 date created or changed, yyyy mm dd*
DATA_FILE_SIZE 49232370 data set size in bytes*
BYTE_COUNT 6369 header byte count* * * * * * * * * * * * * * * * * * * * * * * * * * * * * * * * *
END_USGS_HEADER *
