BEGIN_USGS_DOQ_HEADER *
QUADRANGLE_NAME "CALAVERAS DOME" 3.45 or 7.5-min. name*
QUADRANT SW quadrant indicator if cell size = 3.75-minutes*
WEST_LONGITUDE -120 15 0.000 signed deg min sec SDDD MM SS.SSS*
EAST_LONGITUDE -120 11 15.000 signed deg min sec SDDD MM SS.SSS*
NORTH_LATITUDE 38 26 15.000 signed deg min sec SDDD MM SS.SSS*
SOUTH_LATITUDE 38 22 30.000 signed deg min sec SDDD MM SS.SSS*
PRODUCTION_DATE 2000 10 4 yyyy mm dd*
RASTER_ORDER LEFT_RIGHT/TOP_BOTTOM video display order*
BAND_ORGANIZATION "SINGLE FILE" single file or BSQ, or BIL or BIP*
BAND_CONTENT BLACK&WHITE black&white or red green blue*
BITS_PER_PIXEL 8 radiometric resolution*
SAMPLES_AND_LINES 6361 7717 number of columns and rows*
HORIZONTAL_DATUM NAD83 primary horizontal datum*
HORIZONTAL_COORDINATE_SYSTEM UTM *
COORDINATE_ZONE 10 coordinate system zone number*
HORIZONTAL_UNITS METERS coordinate system units*
HORIZONTAL_RESOLUTION 1.00 pixel horiz. ground sample distance*
SECONDARY_HORIZONTAL_DATUM NAD27 secondary horizontal datum*
XY_ORIGIN 739631.000 4258406.000 coord. of upper left pixel pri. datum*
SECONDARY_XY_ORIGIN 739726.478 4258211.651 coord upper left pixel sec datum*
NATION US nation code*
STATE CA state fip code*
NW_QUAD_CORNER_XY 740022.353 4257940.751 XY coords. of pri. NW quad corner*
NE_QUAD_CORNER_XY 745478.398 4258105.527 XY coords. of pri. NE quad corner*
SE_QUAD_CORNER_XY 745690.109 4251168.617 XY coords. of pri. SE quad corner*
SW_QUAD_CORNER_XY 740229.348 4251003.926 XY coords. of pri. SW quad corner*
SECONDARY_NW_QUAD_XY 740028.421 4257734.139 XY coords. - sec. NW quad cor.*
SECONDARY_NE_QUAD_XY 745484.605 4257898.919 XY coords. - sec. NE quad cor.*
SECONDARY_SE_QUAD_XY 745696.311 4250962.153 XY coords. - sec. SE quad cor.*
SECONDARY_SW_QUAD_XY 740235.412 4250797.458 XY coords. - sec. SW quad cor.*
RMSE_XY 1.10 doq horiz. accuracy*
IMAGE_SOURCE "BLACK AND WHITE FILM" b&w, cir, natural color, other*
SOURCE_IMAGE_ID "NAPP 10555 036" source image id*
SOURCE_IMAGE_DATE 1998 08 26 source image date as yyyy mm dd*
SOURCE_IMAGE_ID "NAPP 10555 037" source image id*
SOURCE_IMAGE_DATE 1998 08 26 source image date as yyyy mm dd*
SOURCE_IMAGE_ID "NAPP 10555 120" source image id*
SOURCE_IMAGE_DATE 1998 08 26 source image date as yyyy mm dd*
SOURCE_DEM_DATE 2000 01 01 source dem date yyyy mm dd*
AGENCY "WESTERN MAPPING CENTER (WMC)" oversight agency*
PRODUCER "SCIENCE APPLICATIONS INTERNATIONAL" producer/contractor*
PRODUCTION_SYSTEM "GIS/MAGIC" production system*
STANDARD_VERSION 1996 12 version of DOQ standard*
METADATA_DATE 2000 12 04 date created or changed, yyyy mm dd*
DATA_FILE_SIZE 49094198 data set size in bytes*
BYTE_COUNT 6361 header byte count* * * * * * * * * * * * * * * * * * * * * * * * * * * * * * * * *
END_USGS_HEADER *
