BEGIN_USGS_DOQ_HEADER *
QUADRANGLE_NAME "DEVILS NOSE" 3.45 or 7.5-min. name*
QUADRANT NE quadrant indicator if cell size = 3.75-minutes*
WEST_LONGITUDE -120 26 15.000 signed deg min sec SDDD MM SS.SSS*
EAST_LONGITUDE -120 22 30.000 signed deg min sec SDDD MM SS.SSS*
NORTH_LATITUDE 38 30 0.000 signed deg min sec SDDD MM SS.SSS*
SOUTH_LATITUDE 38 26 15.000 signed deg min sec SDDD MM SS.SSS*
PRODUCTION_DATE 2000 11 29 yyyy mm dd*
RASTER_ORDER LEFT_RIGHT/TOP_BOTTOM video display order*
BAND_ORGANIZATION "SINGLE FILE" single file or BSQ, or BIL or BIP*
BAND_CONTENT BLACK&WHITE black&white or red green blue*
BITS_PER_PIXEL 8 radiometric resolution*
SAMPLES_AND_LINES 6342 7706 number of columns and rows*
HORIZONTAL_DATUM NAD83 primary horizontal datum*
HORIZONTAL_COORDINATE_SYSTEM UTM *
COORDINATE_ZONE 10 coordinate system zone number*
HORIZONTAL_UNITS METERS coordinate system units*
HORIZONTAL_RESOLUTION 1.00 pixel horiz. ground sample distance*
SECONDARY_HORIZONTAL_DATUM NAD27 secondary horizontal datum*
XY_ORIGIN 723070.000 4264860.000 coord. of upper left pixel pri. datum*
SECONDARY_XY_ORIGIN 723165.544 4264665.799 coord upper left pixel sec datum*
NATION US nation code*
STATE CA state fip code*
NW_QUAD_CORNER_XY 723461.478 4264405.328 XY coords. of pri. NW quad corner*
NE_QUAD_CORNER_XY 728912.613 4264559.052 XY coords. of pri. NE quad corner*
SE_QUAD_CORNER_XY 729110.455 4257622.331 XY coords. of pri. SE quad corner*
SW_QUAD_CORNER_XY 723654.601 4257468.685 XY coords. of pri. SW quad corner*
SECONDARY_NW_QUAD_XY 723467.136 4264198.561 XY coords. - sec. NW quad cor.*
SECONDARY_NE_QUAD_XY 728918.409 4264352.289 XY coords. - sec. NE quad cor.*
SECONDARY_SE_QUAD_XY 729116.247 4257415.711 XY coords. - sec. SE quad cor.*
SECONDARY_SW_QUAD_XY 723660.255 4257262.061 XY coords. - sec. SW quad cor.*
RMSE_XY 1.00 doq horiz. accuracy*
IMAGE_SOURCE "BLACK AND WHITE FILM" b&w, cir, natural color, other*
SOURCE_IMAGE_ID "NAPP 10550 045" source image id*
SOURCE_IMAGE_DATE 1998 08 21 source image date as yyyy mm dd*
SOURCE_IMAGE_ID "NAPP 10557 114" source image id*
SOURCE_IMAGE_DATE 1998 08 29 source image date as yyyy mm dd*
SOURCE_IMAGE_ID "NAPP 10550 046" source image id*
SOURCE_IMAGE_DATE 1998 08 21 source image date as yyyy mm dd*
SOURCE_IMAGE_ID "NAPP 10557 080" source image id*
SOURCE_IMAGE_DATE 1998 08 29 source image date as yyyy mm dd*
SOURCE_IMAGE_ID "NAPP 10557 079" source image id*
SOURCE_IMAGE_DATE 1998 08 29 source image date as yyyy mm dd*
SOURCE_DEM_DATE 2000 01 01 source dem date yyyy mm dd*
AGENCY "WESTERN MAPPING CENTER (WMC)" oversight agency*
PRODUCER "SCIENCE APPLICATIONS INTERNATIONAL" producer/contractor*
PRODUCTION_SYSTEM "GIS/MAGIC" production system*
STANDARD_VERSION 1996 12 version of DOQ standard*
METADATA_DATE 2000 12 04 date created or changed, yyyy mm dd*
DATA_FILE_SIZE 48877794 data set size in bytes*
BYTE_COUNT 6342 header byte count* * * * * * * * * * * * * * * * * * * * * * * * * * * * *
END_USGS_HEADER *
