BEGIN_USGS_DOQ_HEADER *
QUADRANGLE_NAME "DEVILS NOSE" 3.45 or 7.5-min. name*
QUADRANT SW quadrant indicator if cell size = 3.75-minutes*
WEST_LONGITUDE -120 30 0.000 signed deg min sec SDDD MM SS.SSS*
EAST_LONGITUDE -120 26 15.000 signed deg min sec SDDD MM SS.SSS*
NORTH_LATITUDE 38 26 15.000 signed deg min sec SDDD MM SS.SSS*
SOUTH_LATITUDE 38 22 30.000 signed deg min sec SDDD MM SS.SSS*
PRODUCTION_DATE 2000 11 29 yyyy mm dd*
RASTER_ORDER LEFT_RIGHT/TOP_BOTTOM video display order*
BAND_ORGANIZATION "SINGLE FILE" single file or BSQ, or BIL or BIP*
BAND_CONTENT BLACK&WHITE black&white or red green blue*
BITS_PER_PIXEL 8 radiometric resolution*
SAMPLES_AND_LINES 6342 7701 number of columns and rows*
HORIZONTAL_DATUM NAD83 primary horizontal datum*
HORIZONTAL_COORDINATE_SYSTEM UTM *
COORDINATE_ZONE 10 coordinate system zone number*
HORIZONTAL_UNITS METERS coordinate system units*
HORIZONTAL_RESOLUTION 1.00 pixel horiz. ground sample distance*
SECONDARY_HORIZONTAL_DATUM NAD27 secondary horizontal datum*
XY_ORIGIN 717807.000 4257769.000 coord. of upper left pixel pri. datum*
SECONDARY_XY_ORIGIN 717902.684 4257574.748 coord upper left pixel sec datum*
NATION US nation code*
STATE CA state fip code*
NW_QUAD_CORNER_XY 718198.807 4257318.748 XY coords. of pri. NW quad corner*
NE_QUAD_CORNER_XY 723654.601 4257468.685 XY coords. of pri. NE quad corner*
SE_QUAD_CORNER_XY 723847.457 4250532.102 XY coords. of pri. SE quad corner*
SW_QUAD_CORNER_XY 718386.952 4250382.242 XY coords. of pri. SW quad corner*
SECONDARY_NW_QUAD_XY 718204.324 4257112.121 XY coords. - sec. NW quad cor.*
SECONDARY_NE_QUAD_XY 723660.255 4257262.061 XY coords. - sec. NE quad cor.*
SECONDARY_SE_QUAD_XY 723853.107 4250325.622 XY coords. - sec. SE quad cor.*
SECONDARY_SW_QUAD_XY 718392.464 4250175.758 XY coords. - sec. SW quad cor.*
RMSE_XY 1.40 doq horiz. accuracy*
IMAGE_SOURCE "BLACK AND WHITE FILM" b&w, cir, natural color, other*
SOURCE_IMAGE_ID "NAPP 10557 113" source image id*
SOURCE_IMAGE_DATE 1998 08 29 source image date as yyyy mm dd*
SOURCE_IMAGE_ID "NAPP 10549 048" source image id*
SOURCE_IMAGE_DATE 1998 08 20 source image date as yyyy mm dd*
SOURCE_IMAGE_ID "NAPP 10549 047" source image id*
SOURCE_IMAGE_DATE 1998 08 20 source image date as yyyy mm dd*
SOURCE_IMAGE_ID "NAPP 10557 112" source image id*
SOURCE_IMAGE_DATE 1998 08 29 source image date as yyyy mm dd*
SOURCE_IMAGE_ID "NAPP 10557 114" source image id*
SOURCE_IMAGE_DATE 1998 08 29 source image date as yyyy mm dd*
SOURCE_DEM_DATE 2000 01 01 source dem date yyyy mm dd*
AGENCY "WESTERN MAPPING CENTER (WMC)" oversight agency*
PRODUCER "SCIENCE APPLICATIONS INTERNATIONAL" producer/contractor*
PRODUCTION_SYSTEM "GIS/MAGIC" production system*
STANDARD_VERSION 1996 12 version of DOQ standard*
METADATA_DATE 2000 12 04 date created or changed, yyyy mm dd*
DATA_FILE_SIZE 48846084 data set size in bytes*
BYTE_COUNT 6342 header byte count* * * * * * * * * * * * * * * * * * * * * * * * * * * * *
END_USGS_HEADER *
