FILENAME: 38120D72
QUADRANGLE_NAME: AMADOR CITY
QUADRANT: NE
WEST_LONGITUDE: -120 48 45.00000
EAST_LONGITUDE: -120 45 0.00000
NORTH_LATITUDE: 38 30 0.00000
SOUTH_LATITUDE: 38 26 15.00000
PRODUCTION_DATE: 2001 12 12
RASTER_ORDER: LEFT_RIGHT/TOP_BOTTOM
BAND_ORGANIZATION: SINGLE FILE
BAND_CONTENT: BLACK&WHITE
BAND_CONTENT: UNDEFINED
BAND_CONTENT: UNDEFINED
BITS_PER_PIXEL: 8
SAMPLES_AND_LINES: 6330 7710
HORIZONTAL_DATUM: NAD83
HORIZONTAL_COORDINATE_SYSTEM: UTM
COORDINATE_ZONE: 10
HORIZONTAL_UNITS: METERS
HORIZONTAL_RESOLUTION: 1.00000
SECONDARY_HORIZONTAL_DATUM: NAD27
XY_ORIGIN: 690360.00000 4264020.00000
SECONDARY_XY_ORIGIN: 690455.86800 4263825.60200
NATION: US
STATE: CA
NW_QUAD_CORNER_XY: 690755.88100 4263560.89500
NE_QUAD_CORNER_XY: 696206.67600 4263692.36200
SE_QUAD_CORNERY_XY: 696376.21300 4256756.08100
SW_QUAD_CORNER_XY: 690920.70200 4256624.68100
SECONDARY_NW_QUAD_XY: 690760.71100 4263354.10700
SECONDARY_NE_QUAD_XY: 696211.64400 4263485.57600
SECONDARY_SE_QUAD_XY: 696381.17700 4256549.43900
SECONDARY_SW_QUAD_XY: 690925.52800 4256418.03600
RMSE_XY: 2.17000
IMAGE_SOURCE: BLACK AND WHITE FILM
SOURCE_IMAGE_ID: NAPP 10520 18
SOURCE_IMAGE_DATE: 1998 08 16
SOURCE_IMAGE_ID: NAPP 10520 20
SOURCE_IMAGE_DATE: 1998 08 16
SOURCE_IMAGE_ID: NAPP 10546 133
SOURCE_IMAGE_DATE: 1998 08 15
SOURCE_DEM_DATE: 1962 00 00
AGENCY: WESTERN MAPPING CENTER (WMC)
PRODUCER: SANBORN COLORADO, L.L.C.
PRODUCTION_SYSTEM: ORBIT OR_RECTIFY V.5.2
COMPRESSION: UNDEFINED
STANDARD_VERSION: 1996 12
METADATA_DATE: 2001 12 14
DATA_FILE_SIZE: 48810630
BYTE_COUNT: 6330
