FILENAME: 38120D82
QUADRANGLE_NAME: IRISH HILL
QUADRANT: NE
WEST_LONGITUDE: -120 56 15.00000
EAST_LONGITUDE: -120 52 30.00000
NORTH_LATITUDE: 38 30 0.00000
SOUTH_LATITUDE: 38 26 15.00000
PRODUCTION_DATE: 2001 12 12
RASTER_ORDER: LEFT_RIGHT/TOP_BOTTOM
BAND_ORGANIZATION: SINGLE FILE
BAND_CONTENT: BLACK&WHITE
BAND_CONTENT: UNDEFINED
BAND_CONTENT: UNDEFINED
BITS_PER_PIXEL: 8
SAMPLES_AND_LINES: 6330 7710
HORIZONTAL_DATUM: NAD83
HORIZONTAL_COORDINATE_SYSTEM: UTM
COORDINATE_ZONE: 10
HORIZONTAL_UNITS: METERS
HORIZONTAL_RESOLUTION: 1.00000
SECONDARY_HORIZONTAL_DATUM: NAD27
XY_ORIGIN: 679440.00000 4263750.00000
SECONDARY_XY_ORIGIN: 679535.99400 4263555.44100
NATION: US
STATE: CA
NW_QUAD_CORNER_XY: 679854.44300 4263309.08700
NE_QUAD_CORNER_XY: 685305.13700 4263433.13700
SE_QUAD_CORNERY_XY: 685465.24300 4256496.98800
SW_QUAD_CORNER_XY: 680009.83400 4256373.00100
SECONDARY_NW_QUAD_XY: 679858.99600 4263102.29200
SECONDARY_NE_QUAD_XY: 685309.82800 4263226.34500
SECONDARY_SE_QUAD_XY: 685469.93100 4256290.34000
SECONDARY_SW_QUAD_XY: 680014.38400 4256166.34900
RMSE_XY: 1.78000
IMAGE_SOURCE: BLACK AND WHITE FILM
SOURCE_IMAGE_ID: NAPP 10520 146
SOURCE_IMAGE_DATE: 1998 08 16
SOURCE_IMAGE_ID: NAPP 10519 22
SOURCE_IMAGE_DATE: 1998 08 15
SOURCE_IMAGE_ID: NAPP 10520 144
SOURCE_IMAGE_DATE: 1998 08 16
SOURCE_DEM_DATE: 1962 00 00
AGENCY: WESTERN MAPPING CENTER (WMC)
PRODUCER: SANBORN COLORADO, L.L.C.
PRODUCTION_SYSTEM: ORBIT OR_RECTIFY V.5.2
COMPRESSION: UNDEFINED
STANDARD_VERSION: 1996 12
METADATA_DATE: 2001 12 14
DATA_FILE_SIZE: 48810630
BYTE_COUNT: 6330
