BEGIN_USGS_DOQ_HEADER *
QUADRANGLE_NAME "MOKELUMNE PEAK" 3.45 or 7.5-min. name*
QUADRANT NE quadrant indicator if cell size = 3.75-minutes*
WEST_LONGITUDE -120 3 45.000 signed deg min sec SDDD MM SS.SSS*
EAST_LONGITUDE -120 0 0.000 signed deg min sec SDDD MM SS.SSS*
NORTH_LATITUDE 38 37 30.000 signed deg min sec SDDD MM SS.SSS*
SOUTH_LATITUDE 38 33 45.000 signed deg min sec SDDD MM SS.SSS*
PRODUCTION_DATE 2000 10 4 yyyy mm dd*
RASTER_ORDER LEFT_RIGHT/TOP_BOTTOM video display order*
BAND_ORGANIZATION "SINGLE FILE" single file or BSQ, or BIL or BIP*
BAND_CONTENT BLACK&WHITE black&white or red green blue*
BITS_PER_PIXEL 8 radiometric resolution*
SAMPLES_AND_LINES 6361 7729 number of columns and rows*
HORIZONTAL_DATUM NAD83 primary horizontal datum*
HORIZONTAL_COORDINATE_SYSTEM UTM *
COORDINATE_ZONE 10 coordinate system zone number*
HORIZONTAL_UNITS METERS coordinate system units*
HORIZONTAL_RESOLUTION 1.00 pixel horiz. ground sample distance*
SECONDARY_HORIZONTAL_DATUM NAD27 secondary horizontal datum*
XY_ORIGIN 755335.000 4279734.000 coord. of upper left pixel pri. datum*
SECONDARY_XY_ORIGIN 755429.931 4279539.902 coord upper left pixel sec datum*
NATION US nation code*
STATE CA state fip code*
NW_QUAD_CORNER_XY 755725.433 4279257.791 XY coords. of pri. NW quad corner*
NE_QUAD_CORNER_XY 761167.495 4279433.966 XY coords. of pri. NE quad corner*
SE_QUAD_CORNER_XY 761394.289 4272496.631 XY coords. of pri. SE quad corner*
SW_QUAD_CORNER_XY 755947.491 4272320.543 XY coords. of pri. SW quad corner*
SECONDARY_NW_QUAD_XY 755731.929 4279050.765 XY coords. - sec. NW quad cor.*
SECONDARY_NE_QUAD_XY 761174.129 4279226.945 XY coords. - sec. NE quad cor.*
SECONDARY_SE_QUAD_XY 761400.919 4272289.751 XY coords. - sec. SE quad cor.*
SECONDARY_SW_QUAD_XY 755953.983 4272113.659 XY coords. - sec. SW quad cor.*
RMSE_XY 3.70 doq horiz. accuracy*
IMAGE_SOURCE "BLACK AND WHITE FILM" b&w, cir, natural color, other*
SOURCE_IMAGE_ID "NAPP 10565 030" source image id*
SOURCE_IMAGE_DATE 1998 09 19 source image date as yyyy mm dd*
SOURCE_IMAGE_ID "NAPP 10554 142" source image id*
SOURCE_IMAGE_DATE 1998 08 25 source image date as yyyy mm dd*
SOURCE_IMAGE_ID "NAPP 10565 031" source image id*
SOURCE_IMAGE_DATE 1998 09 19 source image date as yyyy mm dd*
SOURCE_IMAGE_ID "NAPP 10565 029" source image id*
SOURCE_IMAGE_DATE 1998 09 19 source image date as yyyy mm dd*
SOURCE_DEM_DATE 2000 01 01 source dem date yyyy mm dd*
AGENCY "WESTERN MAPPING CENTER (WMC)" oversight agency*
PRODUCER "SCIENCE APPLICATIONS INTERNATIONAL" producer/contractor*
PRODUCTION_SYSTEM "GIS/MAGIC" production system*
STANDARD_VERSION 1996 12 version of DOQ standard*
METADATA_DATE 2000 12 04 date created or changed, yyyy mm dd*
DATA_FILE_SIZE 49170530 data set size in bytes*
BYTE_COUNT 6361 header byte count* * * * * * * * * * * * * * * * * * * * * * * * * * * * * * *
END_USGS_HEADER *
