BEGIN_USGS_DOQ_HEADER *
QUADRANGLE_NAME "MOKELUMNE PEAK" 3.45 or 7.5-min. name*
QUADRANT SW quadrant indicator if cell size = 3.75-minutes*
WEST_LONGITUDE -120 7 30.000 signed deg min sec SDDD MM SS.SSS*
EAST_LONGITUDE -120 3 45.000 signed deg min sec SDDD MM SS.SSS*
NORTH_LATITUDE 38 33 45.000 signed deg min sec SDDD MM SS.SSS*
SOUTH_LATITUDE 38 30 0.000 signed deg min sec SDDD MM SS.SSS*
PRODUCTION_DATE 2000 10 4 yyyy mm dd*
RASTER_ORDER LEFT_RIGHT/TOP_BOTTOM video display order*
BAND_ORGANIZATION "SINGLE FILE" single file or BSQ, or BIL or BIP*
BAND_CONTENT BLACK&WHITE black&white or red green blue*
BITS_PER_PIXEL 8 radiometric resolution*
SAMPLES_AND_LINES 6361 7725 number of columns and rows*
HORIZONTAL_DATUM NAD83 primary horizontal datum*
HORIZONTAL_COORDINATE_SYSTEM UTM *
COORDINATE_ZONE 10 coordinate system zone number*
HORIZONTAL_UNITS METERS coordinate system units*
HORIZONTAL_RESOLUTION 1.00 pixel horiz. ground sample distance*
SECONDARY_HORIZONTAL_DATUM NAD27 secondary horizontal datum*
XY_ORIGIN 750110.000 4272621.000 coord. of upper left pixel pri. datum*
SECONDARY_XY_ORIGIN 750205.137 4272426.832 coord upper left pixel sec datum*
NATION US nation code*
STATE CA state fip code*
NW_QUAD_CORNER_XY 750500.762 4272148.172 XY coords. of pri. NW quad corner*
NE_QUAD_CORNER_XY 755947.491 4272320.543 XY coords. of pri. NE quad corner*
SE_QUAD_CORNER_XY 756169.245 4265383.350 XY coords. of pri. SE quad corner*
SW_QUAD_CORNER_XY 750717.786 4265211.065 XY coords. of pri. SW quad corner*
SECONDARY_NW_QUAD_XY 750507.115 4271941.282 XY coords. - sec. NW quad cor.*
SECONDARY_NE_QUAD_XY 755953.983 4272113.659 XY coords. - sec. NE quad cor.*
SECONDARY_SE_QUAD_XY 756175.732 4265176.607 XY coords. - sec. SE quad cor.*
SECONDARY_SW_QUAD_XY 750724.135 4265004.318 XY coords. - sec. SW quad cor.*
RMSE_XY 6.10 doq horiz. accuracy*
IMAGE_SOURCE "BLACK AND WHITE FILM" b&w, cir, natural color, other*
SOURCE_IMAGE_ID "NAPP 10554 141" source image id*
SOURCE_IMAGE_DATE 1998 08 25 source image date as yyyy mm dd*
SOURCE_IMAGE_ID "NAPP 10555 115" source image id*
SOURCE_IMAGE_DATE 1998 08 26 source image date as yyyy mm dd*
SOURCE_IMAGE_ID "NAPP 10555 114" source image id*
SOURCE_IMAGE_DATE 1998 08 26 source image date as yyyy mm dd*
SOURCE_IMAGE_ID "NAPP 10554 140" source image id*
SOURCE_IMAGE_DATE 1998 08 25 source image date as yyyy mm dd*
SOURCE_IMAGE_ID "NAPP 10554 142" source image id*
SOURCE_IMAGE_DATE 1998 08 25 source image date as yyyy mm dd*
SOURCE_IMAGE_ID "NAPP 10565 032" source image id*
SOURCE_IMAGE_DATE 1998 09 19 source image date as yyyy mm dd*
SOURCE_IMAGE_ID "NAPP 10565 031" source image id*
SOURCE_IMAGE_DATE 1998 09 19 source image date as yyyy mm dd*
SOURCE_DEM_DATE 2000 01 01 source dem date yyyy mm dd*
AGENCY "WESTERN MAPPING CENTER (WMC)" oversight agency*
PRODUCER "SCIENCE APPLICATIONS INTERNATIONAL" producer/contractor*
PRODUCTION_SYSTEM "GIS/MAGIC" production system*
STANDARD_VERSION 1996 12 version of DOQ standard*
METADATA_DATE 2000 12 04 date created or changed, yyyy mm dd*
DATA_FILE_SIZE 49145086 data set size in bytes*
BYTE_COUNT 6361 header byte count* * * * * * * * * * * * * * * * * * * * * * * * *
END_USGS_HEADER *
