BEGIN_USGS_DOQ_HEADER *
QUADRANGLE_NAME "PEDDLER HILL" 3.45 or 7.5-min. name*
QUADRANT NE quadrant indicator if cell size = 3.75-minutes*
WEST_LONGITUDE -120 18 45.000 signed deg min sec SDDD MM SS.SSS*
EAST_LONGITUDE -120 15 0.000 signed deg min sec SDDD MM SS.SSS*
NORTH_LATITUDE 38 37 30.000 signed deg min sec SDDD MM SS.SSS*
SOUTH_LATITUDE 38 33 45.000 signed deg min sec SDDD MM SS.SSS*
PRODUCTION_DATE 2000 10 4 yyyy mm dd*
RASTER_ORDER LEFT_RIGHT/TOP_BOTTOM video display order*
BAND_ORGANIZATION "SINGLE FILE" single file or BSQ, or BIL or BIP*
BAND_CONTENT BLACK&WHITE black&white or red green blue*
BITS_PER_PIXEL 8 radiometric resolution*
SAMPLES_AND_LINES 6342 7714 number of columns and rows*
HORIZONTAL_DATUM NAD83 primary horizontal datum*
HORIZONTAL_COORDINATE_SYSTEM UTM *
COORDINATE_ZONE 10 coordinate system zone number*
HORIZONTAL_UNITS METERS coordinate system units*
HORIZONTAL_RESOLUTION 1.00 pixel horiz. ground sample distance*
SECONDARY_HORIZONTAL_DATUM NAD27 secondary horizontal datum*
XY_ORIGIN 733567.000 4279052.000 coord. of upper left pixel pri. datum*
SECONDARY_XY_ORIGIN 733662.180 4278857.645 coord upper left pixel sec datum*
NATION US nation code*
STATE CA state fip code*
NW_QUAD_CORNER_XY 733957.848 4278590.262 XY coords. of pri. NW quad corner*
NE_QUAD_CORNER_XY 739399.647 4278751.570 XY coords. of pri. NE quad corner*
SE_QUAD_CORNER_XY 739607.502 4271814.573 XY coords. of pri. SE quad corner*
SW_QUAD_CORNER_XY 734160.969 4271653.345 XY coords. of pri. SW quad corner*
SECONDARY_NW_QUAD_XY 733963.790 4278383.219 XY coords. - sec. NW quad cor.*
SECONDARY_NE_QUAD_XY 739405.729 4278544.531 XY coords. - sec. NE quad cor.*
SECONDARY_SE_QUAD_XY 739613.579 4271607.676 XY coords. - sec. SE quad cor.*
SECONDARY_SW_QUAD_XY 734166.907 4271446.444 XY coords. - sec. SW quad cor.*
RMSE_XY 4.00 doq horiz. accuracy*
IMAGE_SOURCE "BLACK AND WHITE FILM" b&w, cir, natural color, other*
SOURCE_IMAGE_ID "NAPP 10555 053" source image id*
SOURCE_IMAGE_DATE 1998 08 26 source image date as yyyy mm dd*
SOURCE_IMAGE_ID "NAPP 10555 052" source image id*
SOURCE_IMAGE_DATE 1998 08 26 source image date as yyyy mm dd*
SOURCE_DEM_DATE 1973 00 00 source dem date yyyy mm dd*
AGENCY "WESTERN MAPPING CENTER (WMC)" oversight agency*
PRODUCER "SCIENCE APPLICATIONS INTERNATIONAL" producer/contractor*
PRODUCTION_SYSTEM "GIS/MAGIC" production system*
STANDARD_VERSION 1996 12 version of DOQ standard*
METADATA_DATE 2000 12 01 date created or changed, yyyy mm dd*
DATA_FILE_SIZE 48928530 data set size in bytes*
BYTE_COUNT 6342 header byte count* * * * * * * * * * * * * * * * * * * * * * * * * * * * * * * * * * *
END_USGS_HEADER *
