BEGIN_USGS_DOQ_HEADER *
QUADRANGLE_NAME "CALDOR" 3.45 or 7.5-min. name*
QUADRANT NE quadrant indicator if cell size = 3.75-minutes*
WEST_LONGITUDE -120 26 15.000 signed deg min sec SDDD MM SS.SSS*
EAST_LONGITUDE -120 22 30.000 signed deg min sec SDDD MM SS.SSS*
NORTH_LATITUDE 38 37 30.000 signed deg min sec SDDD MM SS.SSS*
SOUTH_LATITUDE 38 33 45.000 signed deg min sec SDDD MM SS.SSS*
PRODUCTION_DATE 2000 11 28 yyyy mm dd*
RASTER_ORDER LEFT_RIGHT/TOP_BOTTOM video display order*
BAND_ORGANIZATION "SINGLE FILE" single file or BSQ, or BIL or BIP*
BAND_CONTENT BLACK&WHITE black&white or red green blue*
BITS_PER_PIXEL 8 radiometric resolution*
SAMPLES_AND_LINES 6333 7706 number of columns and rows*
HORIZONTAL_DATUM NAD83 primary horizontal datum*
HORIZONTAL_COORDINATE_SYSTEM UTM *
COORDINATE_ZONE 10 coordinate system zone number*
HORIZONTAL_UNITS METERS coordinate system units*
HORIZONTAL_RESOLUTION 1.00 pixel horiz. ground sample distance*
SECONDARY_HORIZONTAL_DATUM NAD27 secondary horizontal datum*
XY_ORIGIN 722683.000 4278733.000 coord. of upper left pixel pri. datum*
SECONDARY_XY_ORIGIN 722778.313 4278538.762 coord upper left pixel sec datum*
NATION US nation code*
STATE CA state fip code*
NW_QUAD_CORNER_XY 723074.432 4278278.792 XY coords. of pri. NW quad corner*
NE_QUAD_CORNER_XY 728516.110 4278432.669 XY coords. of pri. NE quad corner*
SE_QUAD_CORNER_XY 728714.498 4271495.831 XY coords. of pri. SE quad corner*
SW_QUAD_CORNER_XY 723268.088 4271342.030 XY coords. of pri. SW quad corner*
SECONDARY_NW_QUAD_XY 723080.098 4278071.741 XY coords. - sec. NW quad cor.*
SECONDARY_NE_QUAD_XY 728521.914 4278225.622 XY coords. - sec. NE quad cor.*
SECONDARY_SE_QUAD_XY 728720.298 4271288.926 XY coords. - sec. SE quad cor.*
SECONDARY_SW_QUAD_XY 723273.750 4271135.121 XY coords. - sec. SW quad cor.*
RMSE_XY 3.40 doq horiz. accuracy*
IMAGE_SOURCE "BLACK AND WHITE FILM" b&w, cir, natural color, other*
SOURCE_IMAGE_ID "NAPP 10550 049" source image id*
SOURCE_IMAGE_DATE 1998 08 21 source image date as yyyy mm dd*
SOURCE_IMAGE_ID "NAPP 10550 027" source image id*
SOURCE_IMAGE_DATE 1998 08 21 source image date as yyyy mm dd*
SOURCE_IMAGE_ID "NAPP 10550 048" source image id*
SOURCE_IMAGE_DATE 1998 08 21 source image date as yyyy mm dd*
SOURCE_DEM_DATE 2000 01 01 source dem date yyyy mm dd*
AGENCY "WESTERN MAPPING CENTER (WMC)" oversight agency*
PRODUCER "SCIENCE APPLICATIONS INTERNATIONAL" producer/contractor*
PRODUCTION_SYSTEM "GIS/MAGIC" production system*
STANDARD_VERSION 1996 12 version of DOQ standard*
METADATA_DATE 2000 12 01 date created or changed, yyyy mm dd*
DATA_FILE_SIZE 48808431 data set size in bytes*
BYTE_COUNT 6333 header byte count* * * * * * * * * * * * * * * * * * * * * * * * * * * * * * * * *
END_USGS_HEADER *
