BEGIN_USGS_DOQ_HEADER *
QUADRANGLE_NAME "AUKUM" 3.45 or 7.5-min. name*
QUADRANT NW quadrant indicator if cell size = 3.75-minutes*
WEST_LONGITUDE -120 45 0.000 signed deg min sec SDDD MM SS.SSS*
EAST_LONGITUDE -120 41 15.000 signed deg min sec SDDD MM SS.SSS*
NORTH_LATITUDE 38 37 30.000 signed deg min sec SDDD MM SS.SSS*
SOUTH_LATITUDE 38 33 45.000 signed deg min sec SDDD MM SS.SSS*
PRODUCTION_DATE 1997 8 29 yyyy mm dd*
RASTER_ORDER LEFT_RIGHT/TOP_BOTTOM video display order*
BAND_ORGANIZATION "SINGLE FILE" single file or BSQ, or BIL or BIP*
BAND_CONTENT BLACK&WHITE black&white or red green blue*
BITS_PER_PIXEL 8 radiometric resolution*
SAMPLES_AND_LINES 6310 7687 number of columns and rows*
HORIZONTAL_DATUM NAD83 primary horizontal datum*
HORIZONTAL_COORDINATE_SYSTEM UTM *
COORDINATE_ZONE 10 coordinate system zone number*
HORIZONTAL_UNITS METERS coordinate system units*
HORIZONTAL_RESOLUTION 1.00 pixel horiz. ground sample distance*
SECONDARY_HORIZONTAL_DATUM NAD27 secondary horizontal datum*
XY_ORIGIN 695475.000 4278001.000 coord. of upper left pixel pri. datum*
SECONDARY_XY_ORIGIN 695570.632 4277806.671 coord upper left pixel sec datum*
NATION US nation code*
STATE CA state fip code*
NW_QUAD_CORNER_XY 695866.901 4277565.111 XY coords. of pri. NW quad corner*
NE_QUAD_CORNER_XY 701308.298 4277700.421 XY coords. of pri. NE quad corner*
SE_QUAD_CORNER_XY 701483.032 4270763.947 XY coords. of pri. SE quad corner*
SW_QUAD_CORNER_XY 696036.906 4270628.705 XY coords. of pri. SW quad corner*
SECONDARY_NW_QUAD_XY 695871.876 4277358.042 XY coords. - sec. NW quad cor.*
SECONDARY_NE_QUAD_XY 701313.411 4277493.355 XY coords. - sec. NE quad cor.*
SECONDARY_SE_QUAD_XY 701488.141 4270557.023 XY coords. - sec. SE quad cor.*
SECONDARY_SW_QUAD_XY 696041.877 4270421.777 XY coords. - sec. SW quad cor.*
RMSE_XY 4.10 doq horiz. accuracy*
IMAGE_SOURCE "BLACK AND WHITE FILM" b&w, cir, natural color, other*
SOURCE_IMAGE_ID "NAPP 6300 077" source image id*
SOURCE_IMAGE_DATE 1993 6 3 source image date as yyyy mm dd*
SOURCE_DEM_DATE 1997 8 29 source dem date yyyy mm dd*
AGENCY "WESTERN MAPPING CENTER (WMC)" oversight agency*
PRODUCER "Science Applications International" producer/contractor*
PRODUCTION_SYSTEM "GIS/MAGIC" production system*
STANDARD_VERSION 1996 12 version of DOQ standard*
METADATA_DATE 1997 12 31 date created or changed, yyyy mm dd*
DATA_FILE_SIZE 48511280 data set size in bytes*
BYTE_COUNT 6310 header byte count* * * * * * * * * * * * * * * * * * * * * * * * * * * * * * * * * * * *
END_USGS_HEADER *
