BEGIN_USGS_DOQ_HEADER *
QUADRANGLE_NAME "FIDDLETOWN" 3.45 or 7.5-min. name*
QUADRANT SW quadrant indicator if cell size = 3.75-minutes*
WEST_LONGITUDE -120 52 30.000 signed deg min sec SDDD MM SS.SSS*
EAST_LONGITUDE -120 48 45.000 signed deg min sec SDDD MM SS.SSS*
NORTH_LATITUDE 38 33 45.000 signed deg min sec SDDD MM SS.SSS*
SOUTH_LATITUDE 38 30 0.000 signed deg min sec SDDD MM SS.SSS*
PRODUCTION_DATE 1997 8 27 yyyy mm dd*
RASTER_ORDER LEFT_RIGHT/TOP_BOTTOM video display order*
BAND_ORGANIZATION "SINGLE FILE" single file or BSQ, or BIL or BIP*
BAND_CONTENT BLACK&WHITE black&white or red green blue*
BITS_PER_PIXEL 8 radiometric resolution*
SAMPLES_AND_LINES 6305 7680 number of columns and rows*
HORIZONTAL_DATUM NAD83 primary horizontal datum*
HORIZONTAL_COORDINATE_SYSTEM UTM *
COORDINATE_ZONE 10 coordinate system zone number*
HORIZONTAL_UNITS METERS coordinate system units*
HORIZONTAL_RESOLUTION 1.00 pixel horiz. ground sample distance*
SECONDARY_HORIZONTAL_DATUM NAD27 secondary horizontal datum*
XY_ORIGIN 684752.000 4270798.000 coord. of upper left pixel pri. datum*
SECONDARY_XY_ORIGIN 684847.854 4270603.532 coord upper left pixel sec datum*
NATION US nation code*
STATE CA state fip code*
NW_QUAD_CORNER_XY 685144.810 4270369.350 XY coords. of pri. NW quad corner*
NE_QUAD_CORNER_XY 690590.832 4270497.173 XY coords. of pri. NE quad corner*
SE_QUAD_CORNER_XY 690755.881 4263560.895 XY coords. of pri. SE quad corner*
SW_QUAD_CORNER_XY 685305.137 4263433.137 XY coords. of pri. SW quad corner*
SECONDARY_NW_QUAD_XY 685149.505 4270162.416 XY coords. - sec. NW quad cor.*
SECONDARY_NE_QUAD_XY 690595.665 4270290.242 XY coords. - sec. NE quad cor.*
SECONDARY_SE_QUAD_XY 690760.711 4263354.107 XY coords. - sec. SE quad cor.*
SECONDARY_SW_QUAD_XY 685309.828 4263226.345 XY coords. - sec. SW quad cor.*
RMSE_XY 3.70 doq horiz. accuracy*
IMAGE_SOURCE "BLACK AND WHITE FILM" b&w, cir, natural color, other*
SOURCE_IMAGE_ID "NAPP 6350 075" source image id*
SOURCE_IMAGE_DATE 1993 5 9 source image date as yyyy mm dd*
SOURCE_DEM_DATE 1997 8 27 source dem date yyyy mm dd*
AGENCY "WESTERN MAPPING CENTER (WMC)" oversight agency*
PRODUCER "Science Applications International" producer/contractor*
PRODUCTION_SYSTEM "GIS/MAGIC" production system*
STANDARD_VERSION 1996 12 version of DOQ standard*
METADATA_DATE 1997 12 31 date created or changed, yyyy mm dd*
DATA_FILE_SIZE 48428705 data set size in bytes*
BYTE_COUNT 6305 header byte count* * * * * * * * * * * * * * * * * * * * * * * * * * * * * * * * * * * *
END_USGS_HEADER *
