BEGIN_USGS_DOQ_HEADER *
QUADRANGLE_NAME "LATROBE" 3.45 or 7.5-min. name*
QUADRANT SE quadrant indicator if cell size = 3.75-minutes*
WEST_LONGITUDE -120 56 15.000 signed deg min sec SDDD MM SS.SSS*
EAST_LONGITUDE -120 52 30.000 signed deg min sec SDDD MM SS.SSS*
NORTH_LATITUDE 38 33 45.000 signed deg min sec SDDD MM SS.SSS*
SOUTH_LATITUDE 38 30 0.000 signed deg min sec SDDD MM SS.SSS*
PRODUCTION_DATE 1997 8 7 yyyy mm dd*
RASTER_ORDER LEFT_RIGHT/TOP_BOTTOM video display order*
BAND_ORGANIZATION "SINGLE FILE" single file or BSQ, or BIL or BIP*
BAND_CONTENT BLACK&WHITE black&white or red green blue*
BITS_PER_PIXEL 8 radiometric resolution*
SAMPLES_AND_LINES 6301 7676 number of columns and rows*
HORIZONTAL_DATUM NAD83 primary horizontal datum*
HORIZONTAL_COORDINATE_SYSTEM UTM *
COORDINATE_ZONE 10 coordinate system zone number*
HORIZONTAL_UNITS METERS coordinate system units*
HORIZONTAL_RESOLUTION 1.00 pixel horiz. ground sample distance*
SECONDARY_HORIZONTAL_DATUM NAD27 secondary horizontal datum*
XY_ORIGIN 679306.000 4270670.000 coord. of upper left pixel pri. datum*
SECONDARY_XY_ORIGIN 679401.921 4270475.465 coord upper left pixel sec datum*
NATION US nation code*
STATE CA state fip code*
NW_QUAD_CORNER_XY 679698.837 4270245.237 XY coords. of pri. NW quad corner*
NE_QUAD_CORNER_XY 685144.810 4270369.350 XY coords. of pri. NE quad corner*
SE_QUAD_CORNER_XY 685305.137 4263433.137 XY coords. of pri. SE quad corner*
SW_QUAD_CORNER_XY 679854.443 4263309.087 XY coords. of pri. SW quad corner*
SECONDARY_NW_QUAD_XY 679703.394 4270038.300 XY coords. - sec. NW quad cor.*
SECONDARY_NE_QUAD_XY 685149.505 4270162.416 XY coords. - sec. NE quad cor.*
SECONDARY_SE_QUAD_XY 685309.828 4263226.345 XY coords. - sec. SE quad cor.*
SECONDARY_SW_QUAD_XY 679858.996 4263102.292 XY coords. - sec. SW quad cor.*
RMSE_XY 3.10 doq horiz. accuracy*
IMAGE_SOURCE "BLACK AND WHITE FILM" b&w, cir, natural color, other*
SOURCE_IMAGE_ID "NAPP 6350 207" source image id*
SOURCE_IMAGE_DATE 1993 5 9 source image date as yyyy mm dd*
SOURCE_DEM_DATE 1997 8 7 source dem date yyyy mm dd*
AGENCY "WESTERN MAPPING CENTER (WMC)" oversight agency*
PRODUCER "Science Applications International" producer/contractor*
PRODUCTION_SYSTEM "GIS/MAGIC" production system*
STANDARD_VERSION 1996 12 version of DOQ standard*
METADATA_DATE 1997 12 31 date created or changed, yyyy mm dd*
DATA_FILE_SIZE 48372777 data set size in bytes*
BYTE_COUNT 6301 header byte count* * * * * * * * * * * * * * * * * * * * * * * * * * * * * * * * * * * *
END_USGS_HEADER *
