BEGIN_USGS_DOQ_HEADER *
QUADRANGLE_NAME "CAPLES LAKE" 3.45 or 7.5-min. name*
QUADRANT NE quadrant indicator if cell size = 3.75-minutes*
WEST_LONGITUDE -120 3 45.000 signed deg min sec SDDD MM SS.SSS*
EAST_LONGITUDE -120 0 0.000 signed deg min sec SDDD MM SS.SSS*
NORTH_LATITUDE 38 45 0.000 signed deg min sec SDDD MM SS.SSS*
SOUTH_LATITUDE 38 41 15.000 signed deg min sec SDDD MM SS.SSS*
PRODUCTION_DATE 2000 4 13 yyyy mm dd*
RASTER_ORDER LEFT_RIGHT/TOP_BOTTOM video display order*
BAND_ORGANIZATION "SINGLE FILE" single file or BSQ, or BIL or BIP*
BAND_CONTENT BLACK&WHITE black&white or red green blue*
BITS_PER_PIXEL 8 radiometric resolution*
SAMPLES_AND_LINES 6348 7730 number of columns and rows*
HORIZONTAL_DATUM NAD83 primary horizontal datum*
HORIZONTAL_COORDINATE_SYSTEM UTM *
COORDINATE_ZONE 10 coordinate system zone number*
HORIZONTAL_UNITS METERS coordinate system units*
HORIZONTAL_RESOLUTION 1.00 pixel horiz. ground sample distance*
SECONDARY_HORIZONTAL_DATUM NAD27 secondary horizontal datum*
XY_ORIGIN 754891.000 4293610.000 coord. of upper left pixel pri. datum*
SECONDARY_XY_ORIGIN 754985.000 4293416.000 coord upper left pixel sec datum*
NATION US nation code*
STATE CA state fip code*
NW_QUAD_CORNER_XY 755280.401 4293132.453 XY coords. of pri. NW quad corner*
NE_QUAD_CORNER_XY 760712.971 4293308.801 XY coords. of pri. NE quad corner*
SE_QUAD_CORNER_XY 760940.388 4286371.357 XY coords. of pri. SE quad corner*
SW_QUAD_CORNER_XY 755503.069 4286195.095 XY coords. of pri. SW quad corner*
SECONDARY_NW_QUAD_XY 755286.906 4292925.147 XY coords. - sec. NW quad cor.*
SECONDARY_NE_QUAD_XY 760719.614 4293101.499 XY coords. - sec. NE quad cor.*
SECONDARY_SE_QUAD_XY 760947.027 4286164.195 XY coords. - sec. SE quad cor.*
SECONDARY_SW_QUAD_XY 755509.570 4285987.929 XY coords. - sec. SW quad cor.*
RMSE_XY 2.30 doq horiz. accuracy*
IMAGE_SOURCE "BLACK AND WHITE FILM" b&w, cir, natural color, other*
SOURCE_IMAGE_ID "NAPP 10565 25" source image id*
SOURCE_IMAGE_DATE 1998 9 19 source image date as yyyy mm dd*
SOURCE_DEM_DATE 1992 0 00 source dem date yyyy mm dd*
AGENCY "WESTERN MAPPING CENTER (WMC)" oversight agency*
PRODUCER "WESTERN MAPPING CENTER (WMC)" *
PRODUCTION_SYSTEM "DV2.6.3 10/9OV2.4 5/95" production system*
STANDARD_VERSION 1996 12 version of DOQ standard*
METADATA_DATE 2000 4 13 date created or changed, yyyy mm dd*
DATA_FILE_SIZE 49076388 data set size in bytes*
BYTE_COUNT 6348 header byte count* * * * * * * * * * * * * * * * * * * * * * * * * * * * * * * * * * * * *
END_USGS_HEADER *
