BEGIN_USGS_DOQ_HEADER *
QUADRANGLE_NAME "CAPLES LAKE" 3.45 or 7.5-min. name*
QUADRANT SW quadrant indicator if cell size = 3.75-minutes*
WEST_LONGITUDE -120 7 30.000 signed deg min sec SDDD MM SS.SSS*
EAST_LONGITUDE -120 3 45.000 signed deg min sec SDDD MM SS.SSS*
NORTH_LATITUDE 38 41 15.000 signed deg min sec SDDD MM SS.SSS*
SOUTH_LATITUDE 38 37 30.000 signed deg min sec SDDD MM SS.SSS*
PRODUCTION_DATE 2000 4 13 yyyy mm dd*
RASTER_ORDER LEFT_RIGHT/TOP_BOTTOM video display order*
BAND_ORGANIZATION "SINGLE FILE" single file or BSQ, or BIL or BIP*
BAND_CONTENT BLACK&WHITE black&white or red green blue*
BITS_PER_PIXEL 8 radiometric resolution*
SAMPLES_AND_LINES 6348 7725 number of columns and rows*
HORIZONTAL_DATUM NAD83 primary horizontal datum*
HORIZONTAL_COORDINATE_SYSTEM UTM *
COORDINATE_ZONE 10 coordinate system zone number*
HORIZONTAL_UNITS METERS coordinate system units*
HORIZONTAL_RESOLUTION 1.00 pixel horiz. ground sample distance*
SECONDARY_HORIZONTAL_DATUM NAD27 secondary horizontal datum*
XY_ORIGIN 749676.000 4286496.000 coord. of upper left pixel pri. datum*
SECONDARY_XY_ORIGIN 749770.000 4286302.000 coord upper left pixel sec datum*
NATION US nation code*
STATE CA state fip code*
NW_QUAD_CORNER_XY 750065.817 4286022.553 XY coords. of pri. NW quad corner*
NE_QUAD_CORNER_XY 755503.069 4286195.095 XY coords. of pri. NE quad corner*
SE_QUAD_CORNER_XY 755725.433 4279257.792 XY coords. of pri. SE quad corner*
SW_QUAD_CORNER_XY 750283.439 4279085.335 XY coords. of pri. SW quad corner*
SECONDARY_NW_QUAD_XY 750072.179 4285815.382 XY coords. - sec. NW quad cor.*
SECONDARY_NE_QUAD_XY 755509.570 4285987.929 XY coords. - sec. NE quad cor.*
SECONDARY_SE_QUAD_XY 755731.929 4279050.766 XY coords. - sec. SE quad cor.*
SECONDARY_SW_QUAD_XY 750289.796 4278878.304 XY coords. - sec. SW quad cor.*
RMSE_XY 2.00 doq horiz. accuracy*
IMAGE_SOURCE "BLACK AND WHITE FILM" b&w, cir, natural color, other*
SOURCE_IMAGE_ID "NAPP 10554 145" source image id*
SOURCE_IMAGE_DATE 1998 8 25 source image date as yyyy mm dd*
SOURCE_DEM_DATE 1992 0 00 source dem date yyyy mm dd*
AGENCY "WESTERN MAPPING CENTER (WMC)" oversight agency*
PRODUCER "WESTERN MAPPING CENTER (WMC)" *
PRODUCTION_SYSTEM "DV2.6.3 10/9OV2.4 5/95" production system*
STANDARD_VERSION 1996 12 version of DOQ standard*
METADATA_DATE 2000 4 13 date created or changed, yyyy mm dd*
DATA_FILE_SIZE 49044648 data set size in bytes*
BYTE_COUNT 6348 header byte count* * * * * * * * * * * * * * * * * * * * * * * * * * * * * * * * * * * * *
END_USGS_HEADER *
