BEGIN_USGS_DOQ_HEADER *
QUADRANGLE_NAME "OLD IRON MOUNTAIN" 3.45 or 7.5-min. name*
QUADRANT SW quadrant indicator if cell size = 3.75-minutes*
WEST_LONGITUDE -120 30 0.000 signed deg min sec SDDD MM SS.SSS*
EAST_LONGITUDE -120 26 15.000 signed deg min sec SDDD MM SS.SSS*
NORTH_LATITUDE 38 41 15.000 signed deg min sec SDDD MM SS.SSS*
SOUTH_LATITUDE 38 37 30.000 signed deg min sec SDDD MM SS.SSS*
PRODUCTION_DATE 2000 11 28 yyyy mm dd*
RASTER_ORDER LEFT_RIGHT/TOP_BOTTOM video display order*
BAND_ORGANIZATION "SINGLE FILE" single file or BSQ, or BIL or BIP*
BAND_CONTENT BLACK&WHITE black&white or red green blue*
BITS_PER_PIXEL 8 radiometric resolution*
SAMPLES_AND_LINES 6324 7703 number of columns and rows*
HORIZONTAL_DATUM NAD83 primary horizontal datum*
HORIZONTAL_COORDINATE_SYSTEM UTM *
COORDINATE_ZONE 10 coordinate system zone number*
HORIZONTAL_UNITS METERS coordinate system units*
HORIZONTAL_RESOLUTION 1.00 pixel horiz. ground sample distance*
SECONDARY_HORIZONTAL_DATUM NAD27 secondary horizontal datum*
XY_ORIGIN 717052.000 4285516.000 coord. of upper left pixel pri. datum*
SECONDARY_XY_ORIGIN 717147.280 4285321.814 coord upper left pixel sec datum*
NATION US nation code*
STATE CA state fip code*
NW_QUAD_CORNER_XY 717443.629 4285065.376 XY coords. of pri. NW quad corner*
NE_QUAD_CORNER_XY 722880.510 4285215.613 XY coords. of pri. NE quad corner*
SE_QUAD_CORNER_XY 723074.432 4278278.792 XY coords. of pri. SE quad corner*
SW_QUAD_CORNER_XY 717632.813 4278128.629 XY coords. of pri. SW quad corner*
SECONDARY_NW_QUAD_XY 717449.161 4284858.180 XY coords. - sec. NW quad cor.*
SECONDARY_NE_QUAD_XY 722886.180 4285008.421 XY coords. - sec. NE quad cor.*
SECONDARY_SE_QUAD_XY 723080.098 4278071.741 XY coords. - sec. SE quad cor.*
SECONDARY_SW_QUAD_XY 717638.341 4277921.574 XY coords. - sec. SW quad cor.*
RMSE_XY 2.60 doq horiz. accuracy*
IMAGE_SOURCE "BLACK AND WHITE FILM" b&w, cir, natural color, other*
SOURCE_IMAGE_ID "NAPP 10550 024" source image id*
SOURCE_IMAGE_DATE 1998 08 21 source image date as yyyy mm dd*
SOURCE_IMAGE_ID "NAPP 10549 042" source image id*
SOURCE_IMAGE_DATE 1998 08 20 source image date as yyyy mm dd*
SOURCE_IMAGE_ID "NAPP 10550 025" source image id*
SOURCE_IMAGE_DATE 1998 08 21 source image date as yyyy mm dd*
SOURCE_IMAGE_ID "NAPP 10550 023" source image id*
SOURCE_IMAGE_DATE 1998 08 21 source image date as yyyy mm dd*
SOURCE_DEM_DATE 1973 00 00 source dem date yyyy mm dd*
AGENCY "WESTERN MAPPING CENTER (WMC)" oversight agency*
PRODUCER "SCIENCE APPLICATIONS INTERNATIONAL" producer/contractor*
PRODUCTION_SYSTEM "GIS/MAGIC" production system*
STANDARD_VERSION 1996 12 version of DOQ standard*
METADATA_DATE 2000 12 01 date created or changed, yyyy mm dd*
DATA_FILE_SIZE 48720096 data set size in bytes*
BYTE_COUNT 6324 header byte count* * * * * * * * * * * * * * * * * * * * * * * * * * * * * * *
END_USGS_HEADER *
