BEGIN_USGS_DOQ_HEADER *
QUADRANGLE_NAME "SHINGLE SPRINGS" 3.45 or 7.5-min. name*
QUADRANT SW quadrant indicator if cell size = 3.75-minutes*
WEST_LONGITUDE -121 0 0.000 signed deg min sec SDDD MM SS.SSS*
EAST_LONGITUDE -120 56 15.000 signed deg min sec SDDD MM SS.SSS*
NORTH_LATITUDE 38 41 15.000 signed deg min sec SDDD MM SS.SSS*
SOUTH_LATITUDE 38 37 30.000 signed deg min sec SDDD MM SS.SSS*
PRODUCTION_DATE 1997 8 7 yyyy mm dd*
RASTER_ORDER LEFT_RIGHT/TOP_BOTTOM video display order*
BAND_ORGANIZATION "SINGLE FILE" single file or BSQ, or BIL or BIP*
BAND_CONTENT BLACK&WHITE black&white or red green blue*
BITS_PER_PIXEL 8 radiometric resolution*
SAMPLES_AND_LINES 6287 7672 number of columns and rows*
HORIZONTAL_DATUM NAD83 primary horizontal datum*
HORIZONTAL_COORDINATE_SYSTEM UTM *
COORDINATE_ZONE 10 coordinate system zone number*
HORIZONTAL_UNITS METERS coordinate system units*
HORIZONTAL_RESOLUTION 1.00 pixel horiz. ground sample distance*
SECONDARY_HORIZONTAL_DATUM NAD27 secondary horizontal datum*
XY_ORIGIN 673558.000 4284418.000 coord. of upper left pixel pri. datum*
SECONDARY_XY_ORIGIN 673653.846 4284223.488 coord upper left pixel sec datum*
NATION US nation code*
STATE CA state fip code*
NW_QUAD_CORNER_XY 673950.518 4283997.209 XY coords. of pri. NW quad corner*
NE_QUAD_CORNER_XY 679386.982 4284117.732 XY coords. of pri. NE quad corner*
SE_QUAD_CORNER_XY 679543.017 4277181.452 XY coords. of pri. SE quad corner*
SW_QUAD_CORNER_XY 674101.819 4277060.989 XY coords. of pri. SW quad corner*
SECONDARY_NW_QUAD_XY 673954.942 4283789.986 XY coords. - sec. NW quad cor.*
SECONDARY_NE_QUAD_XY 679391.545 4283910.513 XY coords. - sec. NE quad cor.*
SECONDARY_SE_QUAD_XY 679547.576 4276974.373 XY coords. - sec. SE quad cor.*
SECONDARY_SW_QUAD_XY 674106.240 4276853.907 XY coords. - sec. SW quad cor.*
RMSE_XY 2.90 doq horiz. accuracy*
IMAGE_SOURCE "BLACK AND WHITE FILM" b&w, cir, natural color, other*
SOURCE_IMAGE_ID "NAPP 6350 244" source image id*
SOURCE_IMAGE_DATE 1993 5 9 source image date as yyyy mm dd*
SOURCE_DEM_DATE 1997 8 7 source dem date yyyy mm dd*
AGENCY "WESTERN MAPPING CENTER (WMC)" oversight agency*
PRODUCER "Science Applications International" producer/contractor*
PRODUCTION_SYSTEM "GIS/MAGIC" production system*
STANDARD_VERSION 1996 12 version of DOQ standard*
METADATA_DATE 1997 12 31 date created or changed, yyyy mm dd*
DATA_FILE_SIZE 48240151 data set size in bytes*
BYTE_COUNT 6287 header byte count* * * * * * * * * * * * * * * * * * * * * * * * * * * * * * * * * * * *
END_USGS_HEADER *
