BEGIN_USGS_DOQ_HEADER *
QUADRANGLE_NAME "ECHO LAKE" 3.45 or 7.5-min. name*
QUADRANT NE quadrant indicator if cell size = 3.75-minutes*
WEST_LONGITUDE -120 3 45.000 signed deg min sec SDDD MM SS.SSS*
EAST_LONGITUDE -120 0 0.000 signed deg min sec SDDD MM SS.SSS*
NORTH_LATITUDE 38 52 30.000 signed deg min sec SDDD MM SS.SSS*
SOUTH_LATITUDE 38 48 45.000 signed deg min sec SDDD MM SS.SSS*
PRODUCTION_DATE 2000 4 13 yyyy mm dd*
RASTER_ORDER LEFT_RIGHT/TOP_BOTTOM video display order*
BAND_ORGANIZATION "SINGLE FILE" single file or BSQ, or BIL or BIP*
BAND_CONTENT BLACK&WHITE black&white or red green blue*
BITS_PER_PIXEL 8 radiometric resolution*
SAMPLES_AND_LINES 6340 7730 number of columns and rows*
HORIZONTAL_DATUM NAD83 primary horizontal datum*
HORIZONTAL_COORDINATE_SYSTEM UTM *
COORDINATE_ZONE 10 coordinate system zone number*
HORIZONTAL_UNITS METERS coordinate system units*
HORIZONTAL_RESOLUTION 1.00 pixel horiz. ground sample distance*
SECONDARY_HORIZONTAL_DATUM NAD27 secondary horizontal datum*
XY_ORIGIN 754445.000 4307485.000 coord. of upper left pixel pri. datum*
SECONDARY_XY_ORIGIN 754539.477 4307290.501 coord upper left pixel sec datum*
NATION US nation code*
STATE CA state fip code*
NW_QUAD_CORNER_XY 754834.150 4307007.334 XY coords. of pri. NW quad corner*
NE_QUAD_CORNER_XY 760257.203 4307183.851 XY coords. of pri. NE quad corner*
SE_QUAD_CORNER_XY 760485.242 4300246.299 XY coords. of pri. SE quad corner*
SW_QUAD_CORNER_XY 755057.428 4300069.866 XY coords. of pri. SW quad corner*
SECONDARY_NW_QUAD_XY 754840.664 4306799.750 XY coords. - sec. NW quad cor.*
SECONDARY_NE_QUAD_XY 760263.855 4306976.271 XY coords. - sec. NE quad cor.*
SECONDARY_SE_QUAD_XY 760491.890 4300038.858 XY coords. - sec. SE quad cor.*
SECONDARY_SW_QUAD_XY 755063.937 4299862.421 XY coords. - sec. SW quad cor.*
RMSE_XY 2.40 doq horiz. accuracy*
IMAGE_SOURCE "BLACK AND WHITE FILM" b&w, cir, natural color, other*
SOURCE_IMAGE_ID "NAPP 10565 21" source image id*
SOURCE_IMAGE_DATE 1998 9 19 source image date as yyyy mm dd*
SOURCE_DEM_DATE 1992 0 00 source dem date yyyy mm dd*
AGENCY "WESTERN MAPPING CENTER (WMC)" oversight agency*
PRODUCER "WESTERN MAPPING CENTER (WMC)" *
PRODUCTION_SYSTEM "DV2.6.3 10/9OV2.4 5/95" production system*
STANDARD_VERSION 1996 12 version of DOQ standard*
METADATA_DATE 2000 4 13 date created or changed, yyyy mm dd*
DATA_FILE_SIZE 49014540 data set size in bytes*
BYTE_COUNT 6340 header byte count* * * * * * * * * * * * * * * * * * * * * * * * * * * * * * * * * * * * *
END_USGS_HEADER *
