BEGIN_USGS_DOQ_HEADER *
QUADRANGLE_NAME "KYBURZ" 3.45 or 7.5-min. name*
QUADRANT NE quadrant indicator if cell size = 3.75-minutes*
WEST_LONGITUDE -120 18 45.000 signed deg min sec SDDD MM SS.SSS*
EAST_LONGITUDE -120 15 0.000 signed deg min sec SDDD MM SS.SSS*
NORTH_LATITUDE 38 52 30.000 signed deg min sec SDDD MM SS.SSS*
SOUTH_LATITUDE 38 48 45.000 signed deg min sec SDDD MM SS.SSS*
PRODUCTION_DATE 2000 10 4 yyyy mm dd*
RASTER_ORDER LEFT_RIGHT/TOP_BOTTOM video display order*
BAND_ORGANIZATION "SINGLE FILE" single file or BSQ, or BIL or BIP*
BAND_CONTENT BLACK&WHITE black&white or red green blue*
BITS_PER_PIXEL 8 radiometric resolution*
SAMPLES_AND_LINES 6324 7715 number of columns and rows*
HORIZONTAL_DATUM NAD83 primary horizontal datum*
HORIZONTAL_COORDINATE_SYSTEM UTM *
COORDINATE_ZONE 10 coordinate system zone number*
HORIZONTAL_UNITS METERS coordinate system units*
HORIZONTAL_RESOLUTION 1.00 pixel horiz. ground sample distance*
SECONDARY_HORIZONTAL_DATUM NAD27 secondary horizontal datum*
XY_ORIGIN 732752.000 4306801.000 coord. of upper left pixel pri. datum*
SECONDARY_XY_ORIGIN 732846.743 4306606.351 coord upper left pixel sec datum*
NATION US nation code*
STATE CA state fip code*
NW_QUAD_CORNER_XY 733142.574 4306338.508 XY coords. of pri. NW quad corner*
NE_QUAD_CORNER_XY 738565.376 4306500.129 XY coords. of pri. NE quad corner*
SE_QUAD_CORNER_XY 738774.371 4299562.903 XY coords. of pri. SE quad corner*
SW_QUAD_CORNER_XY 733346.810 4299401.359 XY coords. of pri. SW quad corner*
SECONDARY_NW_QUAD_XY 733148.533 4306130.907 XY coords. - sec. NW quad cor.*
SECONDARY_NE_QUAD_XY 738571.473 4306292.532 XY coords. - sec. NE quad cor.*
SECONDARY_SE_QUAD_XY 738780.465 4299355.445 XY coords. - sec. SE quad cor.*
SECONDARY_SW_QUAD_XY 733352.765 4299193.897 XY coords. - sec. SW quad cor.*
RMSE_XY 1.70 doq horiz. accuracy*
IMAGE_SOURCE "BLACK AND WHITE FILM" b&w, cir, natural color, other*
SOURCE_IMAGE_ID "NAPP 10555 061" source image id*
SOURCE_IMAGE_DATE 1998 08 26 source image date as yyyy mm dd*
SOURCE_DEM_DATE 2000 01 01 source dem date yyyy mm dd*
AGENCY "WESTERN MAPPING CENTER (WMC)" oversight agency*
PRODUCER "SCIENCE APPLICATIONS INTERNATIONAL" producer/contractor*
PRODUCTION_SYSTEM "GIS/MAGIC" production system*
STANDARD_VERSION 1996 12 version of DOQ standard*
METADATA_DATE 2000 12 01 date created or changed, yyyy mm dd*
DATA_FILE_SIZE 48795984 data set size in bytes*
BYTE_COUNT 6324 header byte count* * * * * * * * * * * * * * * * * * * * * * * * * * * * * * * * * * * * *
END_USGS_HEADER *
