BEGIN_USGS_DOQ_HEADER *
QUADRANGLE_NAME "GARDEN VALLEY" 3.45 or 7.5-min. name*
QUADRANT SE quadrant indicator if cell size = 3.75-minutes*
WEST_LONGITUDE -120 48 45.000 signed deg min sec SDDD MM SS.SSS*
EAST_LONGITUDE -120 45 0.000 signed deg min sec SDDD MM SS.SSS*
NORTH_LATITUDE 38 48 45.000 signed deg min sec SDDD MM SS.SSS*
SOUTH_LATITUDE 38 45 0.000 signed deg min sec SDDD MM SS.SSS*
PRODUCTION_DATE 2000 10 5 yyyy mm dd*
RASTER_ORDER LEFT_RIGHT/TOP_BOTTOM video display order*
BAND_ORGANIZATION "SINGLE FILE" single file or BSQ, or BIL or BIP*
BAND_CONTENT BLACK&WHITE black&white or red green blue*
BITS_PER_PIXEL 8 radiometric resolution*
SAMPLES_AND_LINES 6292 7684 number of columns and rows*
HORIZONTAL_DATUM NAD83 primary horizontal datum*
HORIZONTAL_COORDINATE_SYSTEM UTM *
COORDINATE_ZONE 10 coordinate system zone number*
HORIZONTAL_UNITS METERS coordinate system units*
HORIZONTAL_RESOLUTION 1.00 pixel horiz. ground sample distance*
SECONDARY_HORIZONTAL_DATUM NAD27 secondary horizontal datum*
XY_ORIGIN 689536.000 4298675.000 coord. of upper left pixel pri. datum*
SECONDARY_XY_ORIGIN 689631.391 4298480.588 coord upper left pixel sec datum*
NATION US nation code*
STATE CA state fip code*
NW_QUAD_CORNER_XY 689928.365 4298242.917 XY coords. of pri. NW quad corner*
NE_QUAD_CORNER_XY 695355.485 4298374.708 XY coords. of pri. NE quad corner*
SE_QUAD_CORNER_XY 695526.191 4291438.113 XY coords. of pri. SE quad corner*
SW_QUAD_CORNER_XY 690094.323 4291306.386 XY coords. of pri. SW quad corner*
SECONDARY_NW_QUAD_XY 689933.211 4298035.425 XY coords. - sec. NW quad cor.*
SECONDARY_NE_QUAD_XY 695360.470 4298167.219 XY coords. - sec. NE quad cor.*
SECONDARY_SE_QUAD_XY 695531.172 4291230.763 XY coords. - sec. SE quad cor.*
SECONDARY_SW_QUAD_XY 690099.165 4291099.032 XY coords. - sec. SW quad cor.*
RMSE_XY 3.90 doq horiz. accuracy*
IMAGE_SOURCE "BLACK AND WHITE FILM" b&w, cir, natural color, other*
SOURCE_IMAGE_ID "NAPP 10520 008" source image id*
SOURCE_IMAGE_DATE 1998 08 16 source image date as yyyy mm dd*
SOURCE_IMAGE_ID "NAPP 10520 007" source image id*
SOURCE_IMAGE_DATE 1998 08 16 source image date as yyyy mm dd*
SOURCE_DEM_DATE 2000 01 01 source dem date yyyy mm dd*
AGENCY "WESTERN MAPPING CENTER (WMC)" oversight agency*
PRODUCER "SCIENCE APPLICATIONS INTERNATIONAL" producer/contractor*
PRODUCTION_SYSTEM "GIS/MAGIC" production system*
STANDARD_VERSION 1996 12 version of DOQ standard*
METADATA_DATE 2000 12 01 date created or changed, yyyy mm dd*
DATA_FILE_SIZE 48354020 data set size in bytes*
BYTE_COUNT 6292 header byte count* * * * * * * * * * * * * * * * * * * * * * * * * * * * * * * * * *
END_USGS_HEADER *
