BEGIN_USGS_DOQ_HEADER *
QUADRANGLE_NAME "COLOMA" 3.45 or 7.5-min. name*
QUADRANT SE quadrant indicator if cell size = 3.75-minutes*
WEST_LONGITUDE -120 56 15.000 signed deg min sec SDDD MM SS.SSS*
EAST_LONGITUDE -120 52 30.000 signed deg min sec SDDD MM SS.SSS*
NORTH_LATITUDE 38 48 45.000 signed deg min sec SDDD MM SS.SSS*
SOUTH_LATITUDE 38 45 0.000 signed deg min sec SDDD MM SS.SSS*
PRODUCTION_DATE 1997 8 28 yyyy mm dd*
RASTER_ORDER LEFT_RIGHT/TOP_BOTTOM video display order*
BAND_ORGANIZATION "SINGLE FILE" single file or BSQ, or BIL or BIP*
BAND_CONTENT BLACK&WHITE black&white or red green blue*
BITS_PER_PIXEL 8 radiometric resolution*
SAMPLES_AND_LINES 6282 7676 number of columns and rows*
HORIZONTAL_DATUM NAD83 primary horizontal datum*
HORIZONTAL_COORDINATE_SYSTEM UTM *
COORDINATE_ZONE 10 coordinate system zone number*
HORIZONTAL_UNITS METERS coordinate system units*
HORIZONTAL_RESOLUTION 1.00 pixel horiz. ground sample distance*
SECONDARY_HORIZONTAL_DATUM NAD27 secondary horizontal datum*
XY_ORIGIN 678682.000 4298415.000 coord. of upper left pixel pri. datum*
SECONDARY_XY_ORIGIN 678777.602 4298220.550 coord upper left pixel sec datum*
NATION US nation code*
STATE CA state fip code*
NW_QUAD_CORNER_XY 679074.270 4297990.487 XY coords. of pri. NW quad corner*
NE_QUAD_CORNER_XY 684501.294 4298114.843 XY coords. of pri. NE quad corner*
SE_QUAD_CORNER_XY 684662.504 4291178.374 XY coords. of pri. SE quad corner*
SW_QUAD_CORNER_XY 679230.733 4291054.077 XY coords. of pri. SW quad corner*
SECONDARY_NW_QUAD_XY 679078.839 4297782.988 XY coords. - sec. NW quad cor.*
SECONDARY_NE_QUAD_XY 684506.002 4297907.348 XY coords. - sec. NE quad cor.*
SECONDARY_SE_QUAD_XY 684667.208 4290971.017 XY coords. - sec. SE quad cor.*
SECONDARY_SW_QUAD_XY 679235.299 4290846.717 XY coords. - sec. SW quad cor.*
RMSE_XY 3.70 doq horiz. accuracy*
IMAGE_SOURCE "BLACK AND WHITE FILM" b&w, cir, natural color, other*
SOURCE_IMAGE_ID "NAPP 6350 217" source image id*
SOURCE_IMAGE_DATE 1993 5 9 source image date as yyyy mm dd*
SOURCE_DEM_DATE 1997 8 28 source dem date yyyy mm dd*
AGENCY "WESTERN MAPPING CENTER (WMC)" oversight agency*
PRODUCER "Science Applications International" producer/contractor*
PRODUCTION_SYSTEM "GIS/MAGIC" production system*
STANDARD_VERSION 1996 12 version of DOQ standard*
METADATA_DATE 1997 12 31 date created or changed, yyyy mm dd*
DATA_FILE_SIZE 48226914 data set size in bytes*
BYTE_COUNT 6282 header byte count* * * * * * * * * * * * * * * * * * * * * * * * * * * * * * * * * * * *
END_USGS_HEADER *
