BEGIN_USGS_DOQ_HEADER *
QUADRANGLE_NAME "EMERALD BAY" 3.45 or 7.5-min. name*
QUADRANT SW quadrant indicator if cell size = 3.75-minutes*
WEST_LONGITUDE -120 7 30.000 signed deg min sec SDDD MM SS.SSS*
EAST_LONGITUDE -120 3 45.000 signed deg min sec SDDD MM SS.SSS*
NORTH_LATITUDE 38 56 15.000 signed deg min sec SDDD MM SS.SSS*
SOUTH_LATITUDE 38 52 30.000 signed deg min sec SDDD MM SS.SSS*
PRODUCTION_DATE 2000 4 17 yyyy mm dd*
RASTER_ORDER LEFT_RIGHT/TOP_BOTTOM video display order*
BAND_ORGANIZATION "SINGLE FILE" single file or BSQ, or BIL or BIP*
BAND_CONTENT BLACK&WHITE black&white or red green blue*
BITS_PER_PIXEL 8 radiometric resolution*
SAMPLES_AND_LINES 6332 7726 number of columns and rows*
HORIZONTAL_DATUM NAD83 primary horizontal datum*
HORIZONTAL_COORDINATE_SYSTEM UTM *
COORDINATE_ZONE 10 coordinate system zone number*
HORIZONTAL_UNITS METERS coordinate system units*
HORIZONTAL_RESOLUTION 1.00 pixel horiz. ground sample distance*
SECONDARY_HORIZONTAL_DATUM NAD27 secondary horizontal datum*
XY_ORIGIN 748803.000 4314246.000 coord. of upper left pixel pri. datum*
SECONDARY_XY_ORIGIN 748897.000 4314052.000 coord upper left pixel sec datum*
NATION US nation code*
STATE CA state fip code*
NW_QUAD_CORNER_XY 749192.348 4313771.983 XY coords. of pri. NW quad corner*
NE_QUAD_CORNER_XY 754610.568 4313944.856 XY coords. of pri. NE quad corner*
SE_QUAD_CORNER_XY 754834.150 4307007.334 XY coords. of pri. SE quad corner*
SW_QUAD_CORNER_XY 749411.162 4306834.542 XY coords. of pri. SW quad corner*
SECONDARY_NW_QUAD_XY 749198.728 4313564.257 XY coords. - sec. NW quad cor.*
SECONDARY_NE_QUAD_XY 754617.087 4313737.135 XY coords. - sec. NE quad cor.*
SECONDARY_SE_QUAD_XY 754840.664 4306799.750 XY coords. - sec. SE quad cor.*
SECONDARY_SW_QUAD_XY 749417.538 4306626.954 XY coords. - sec. SW quad cor.*
RMSE_XY 4.20 doq horiz. accuracy*
IMAGE_SOURCE "BLACK AND WHITE FILM" b&w, cir, natural color, other*
SOURCE_IMAGE_ID "NAPP 10554 153" source image id*
SOURCE_IMAGE_DATE 1998 8 25 source image date as yyyy mm dd*
SOURCE_DEM_DATE 1992 0 00 source dem date yyyy mm dd*
AGENCY "WESTERN MAPPING CENTER (WMC)" oversight agency*
PRODUCER "WESTERN MAPPING CENTER (WMC)" *
PRODUCTION_SYSTEM "DV2.6.3 10/9OV2.4 5/95" production system*
STANDARD_VERSION 1996 12 version of DOQ standard*
METADATA_DATE 2000 4 17 date created or changed, yyyy mm dd*
DATA_FILE_SIZE 48927364 data set size in bytes*
BYTE_COUNT 6332 header byte count* * * * * * * * * * * * * * * * * * * * * * * * * * * * * * * * * * * * *
END_USGS_HEADER *
