BEGIN_USGS_DOQ_HEADER *
QUADRANGLE_NAME "ROCKBOUND VALLEY" 3.45 or 7.5-min. name*
QUADRANT NW quadrant indicator if cell size = 3.75-minutes*
WEST_LONGITUDE -120 15 0.000 signed deg min sec SDDD MM SS.SSS*
EAST_LONGITUDE -120 11 15.000 signed deg min sec SDDD MM SS.SSS*
NORTH_LATITUDE 39 0 0.000 signed deg min sec SDDD MM SS.SSS*
SOUTH_LATITUDE 38 56 15.000 signed deg min sec SDDD MM SS.SSS*
PRODUCTION_DATE 2000 4 17 yyyy mm dd*
RASTER_ORDER LEFT_RIGHT/TOP_BOTTOM video display order*
BAND_ORGANIZATION "SINGLE FILE" single file or BSQ, or BIL or BIP*
BAND_CONTENT BLACK&WHITE black&white or red green blue*
BITS_PER_PIXEL 8 radiometric resolution*
SAMPLES_AND_LINES 6316 7719 number of columns and rows*
HORIZONTAL_DATUM NAD83 primary horizontal datum*
HORIZONTAL_COORDINATE_SYSTEM UTM *
COORDINATE_ZONE 10 coordinate system zone number*
HORIZONTAL_UNITS METERS coordinate system units*
HORIZONTAL_RESOLUTION 1.00 pixel horiz. ground sample distance*
SECONDARY_HORIZONTAL_DATUM NAD27 secondary horizontal datum*
XY_ORIGIN 737757.000 4320841.000 coord. of upper left pixel pri. datum*
SECONDARY_XY_ORIGIN 737851.000 4320647.000 coord upper left pixel sec datum*
NATION US nation code*
STATE CA state fip code*
NW_QUAD_CORNER_XY 738146.531 4320374.753 XY coords. of pri. NW quad corner*
NE_QUAD_CORNER_XY 743559.854 4320540.253 XY coords. of pri. NE quad corner*
SE_QUAD_CORNER_XY 743774.191 4313602.835 XY coords. of pri. SE quad corner*
SW_QUAD_CORNER_XY 738356.095 4313437.413 XY coords. of pri. SW quad corner*
SECONDARY_NW_QUAD_XY 738152.637 4320166.883 XY coords. - sec. NW quad cor.*
SECONDARY_NE_QUAD_XY 743566.098 4320332.386 XY coords. - sec. NE quad cor.*
SECONDARY_SE_QUAD_XY 743780.432 4313395.105 XY coords. - sec. SE quad cor.*
SECONDARY_SW_QUAD_XY 738362.197 4313229.679 XY coords. - sec. SW quad cor.*
RMSE_XY 3.60 doq horiz. accuracy*
IMAGE_SOURCE "BLACK AND WHITE FILM" b&w, cir, natural color, other*
SOURCE_IMAGE_ID "NAPP 10555 18" source image id*
SOURCE_IMAGE_DATE 1998 8 26 source image date as yyyy mm dd*
SOURCE_DEM_DATE 1992 0 00 source dem date yyyy mm dd*
AGENCY "WESTERN MAPPING CENTER (WMC)" oversight agency*
PRODUCER "WESTERN MAPPING CENTER (WMC)" *
PRODUCTION_SYSTEM "DV2.6.3 10/9OV2.4 5/95" production system*
STANDARD_VERSION 1996 12 version of DOQ standard*
METADATA_DATE 2000 4 17 date created or changed, yyyy mm dd*
DATA_FILE_SIZE 48759520 data set size in bytes*
BYTE_COUNT 6316 header byte count* * * * * * * * * * * * * * * * * * * * * * * * * * * * * * * * * * * *
END_USGS_HEADER *
