BEGIN_USGS_DOQ_HEADER *
QUADRANGLE_NAME "LOON LAKE" 3.45 or 7.5-min. name*
QUADRANT SW quadrant indicator if cell size = 3.75-minutes*
WEST_LONGITUDE -120 22 30.000 signed deg min sec SDDD MM SS.SSS*
EAST_LONGITUDE -120 18 45.000 signed deg min sec SDDD MM SS.SSS*
NORTH_LATITUDE 38 56 15.000 signed deg min sec SDDD MM SS.SSS*
SOUTH_LATITUDE 38 52 30.000 signed deg min sec SDDD MM SS.SSS*
PRODUCTION_DATE 2000 10 4 yyyy mm dd*
RASTER_ORDER LEFT_RIGHT/TOP_BOTTOM video display order*
BAND_ORGANIZATION "SINGLE FILE" single file or BSQ, or BIL or BIP*
BAND_CONTENT BLACK&WHITE black&white or red green blue*
BITS_PER_PIXEL 8 radiometric resolution*
SAMPLES_AND_LINES 6314 7711 number of columns and rows*
HORIZONTAL_DATUM NAD83 primary horizontal datum*
HORIZONTAL_COORDINATE_SYSTEM UTM *
COORDINATE_ZONE 10 coordinate system zone number*
HORIZONTAL_UNITS METERS coordinate system units*
HORIZONTAL_RESOLUTION 1.00 pixel horiz. ground sample distance*
SECONDARY_HORIZONTAL_DATUM NAD27 secondary horizontal datum*
XY_ORIGIN 727130.000 4313576.000 coord. of upper left pixel pri. datum*
SECONDARY_XY_ORIGIN 727224.733 4313381.256 coord upper left pixel sec datum*
NATION US nation code*
STATE CA state fip code*
NW_QUAD_CORNER_XY 727520.082 4313117.742 XY coords. of pri. NW quad corner*
NE_QUAD_CORNER_XY 732938.059 4313275.715 XY coords. of pri. NE quad corner*
SE_QUAD_CORNER_XY 733142.574 4306338.508 XY coords. of pri. SE quad corner*
SW_QUAD_CORNER_XY 727719.832 4306180.610 XY coords. of pri. SW quad corner*
SECONDARY_NW_QUAD_XY 727525.906 4312909.999 XY coords. - sec. NW quad cor.*
SECONDARY_NE_QUAD_XY 732944.023 4313067.976 XY coords. - sec. NE quad cor.*
SECONDARY_SE_QUAD_XY 733148.533 4306130.907 XY coords. - sec. SE quad cor.*
SECONDARY_SW_QUAD_XY 727725.652 4305973.005 XY coords. - sec. SW quad cor.*
RMSE_XY 2.40 doq horiz. accuracy*
IMAGE_SOURCE "BLACK AND WHITE FILM" b&w, cir, natural color, other*
SOURCE_IMAGE_ID "NAPP 10550 098" source image id*
SOURCE_IMAGE_DATE 1998 08 21 source image date as yyyy mm dd*
SOURCE_IMAGE_ID "NAPP 10550 099" source image id*
SOURCE_IMAGE_DATE 1998 08 21 source image date as yyyy mm dd*
SOURCE_DEM_DATE 2000 01 01 source dem date yyyy mm dd*
AGENCY "WESTERN MAPPING CENTER (WMC)" oversight agency*
PRODUCER "SCIENCE APPLICATIONS INTERNATIONAL" producer/contractor*
PRODUCTION_SYSTEM "GIS/MAGIC" production system*
STANDARD_VERSION 1996 12 version of DOQ standard*
METADATA_DATE 2000 12 04 date created or changed, yyyy mm dd*
DATA_FILE_SIZE 48693568 data set size in bytes*
BYTE_COUNT 6314 header byte count* * * * * * * * * * * * * * * * * * * * * * * * * * * * * * * * * *
END_USGS_HEADER *
