BEGIN_USGS_DOQ_HEADER *
QUADRANGLE_NAME "DEVIL PEAK" 3.45 or 7.5-min. name*
QUADRANT NE quadrant indicator if cell size = 3.75-minutes*
WEST_LONGITUDE -120 33 45.000 signed deg min sec SDDD MM SS.SSS*
EAST_LONGITUDE -120 30 0.000 signed deg min sec SDDD MM SS.SSS*
NORTH_LATITUDE 39 0 0.000 signed deg min sec SDDD MM SS.SSS*
SOUTH_LATITUDE 38 56 15.000 signed deg min sec SDDD MM SS.SSS*
PRODUCTION_DATE 2000 11 22 yyyy mm dd*
RASTER_ORDER LEFT_RIGHT/TOP_BOTTOM video display order*
BAND_ORGANIZATION "SINGLE FILE" single file or BSQ, or BIL or BIP*
BAND_CONTENT BLACK&WHITE black&white or red green blue*
BITS_PER_PIXEL 8 radiometric resolution*
SAMPLES_AND_LINES 6296 7700 number of columns and rows*
HORIZONTAL_DATUM NAD83 primary horizontal datum*
HORIZONTAL_COORDINATE_SYSTEM UTM *
COORDINATE_ZONE 10 coordinate system zone number*
HORIZONTAL_UNITS METERS coordinate system units*
HORIZONTAL_RESOLUTION 1.00 pixel horiz. ground sample distance*
SECONDARY_HORIZONTAL_DATUM NAD27 secondary horizontal datum*
XY_ORIGIN 710690.000 4320051.000 coord. of upper left pixel pri. datum*
SECONDARY_XY_ORIGIN 710784.795 4319856.197 coord upper left pixel sec datum*
NATION US nation code*
STATE CA state fip code*
NW_QUAD_CORNER_XY 711080.779 4319603.143 XY coords. of pri. NW quad corner*
NE_QUAD_CORNER_XY 716493.818 4319750.015 XY coords. of pri. NE quad corner*
SE_QUAD_CORNER_XY 716684.298 4312812.966 XY coords. of pri. SE quad corner*
SW_QUAD_CORNER_XY 711266.489 4312666.163 XY coords. of pri. SW quad corner*
SECONDARY_NW_QUAD_XY 711086.190 4319395.253 XY coords. - sec. NW quad cor.*
SECONDARY_NE_QUAD_XY 716499.369 4319542.128 XY coords. - sec. NE quad cor.*
SECONDARY_SE_QUAD_XY 716689.845 4312605.216 XY coords. - sec. SE quad cor.*
SECONDARY_SW_QUAD_XY 711271.897 4312458.409 XY coords. - sec. SW quad cor.*
RMSE_XY 4.70 doq horiz. accuracy*
IMAGE_SOURCE "BLACK AND WHITE FILM" b&w, cir, natural color, other*
SOURCE_IMAGE_ID "NAPP 10549 031" source image id*
SOURCE_IMAGE_DATE 1998 08 20 source image date as yyyy mm dd*
SOURCE_IMAGE_ID "NAPP 10549 032" source image id*
SOURCE_IMAGE_DATE 1998 08 20 source image date as yyyy mm dd*
SOURCE_IMAGE_ID "NAPP 10557 151" source image id*
SOURCE_IMAGE_DATE 1998 08 29 source image date as yyyy mm dd*
SOURCE_DEM_DATE 2000 01 01 source dem date yyyy mm dd*
AGENCY "WESTERN MAPPING CENTER (WMC)" oversight agency*
PRODUCER "SCIENCE APPLICATIONS INTERNATIONAL" producer/contractor*
PRODUCTION_SYSTEM "GIS/MAGIC" production system*
STANDARD_VERSION 1996 12 version of DOQ standard*
METADATA_DATE 2000 12 01 date created or changed, yyyy mm dd*
DATA_FILE_SIZE 48485496 data set size in bytes*
BYTE_COUNT 6296 header byte count* * * * * * * * * * * * * * * * * * * * * * * * * * * * * * * *
END_USGS_HEADER *
