BEGIN_USGS_DOQ_HEADER *
QUADRANGLE_NAME "DEVIL PEAK" 3.45 or 7.5-min. name*
QUADRANT SE quadrant indicator if cell size = 3.75-minutes*
WEST_LONGITUDE -120 33 45.000 signed deg min sec SDDD MM SS.SSS*
EAST_LONGITUDE -120 30 0.000 signed deg min sec SDDD MM SS.SSS*
NORTH_LATITUDE 38 56 15.000 signed deg min sec SDDD MM SS.SSS*
SOUTH_LATITUDE 38 52 30.000 signed deg min sec SDDD MM SS.SSS*
PRODUCTION_DATE 2000 11 22 yyyy mm dd*
RASTER_ORDER LEFT_RIGHT/TOP_BOTTOM video display order*
BAND_ORGANIZATION "SINGLE FILE" single file or BSQ, or BIL or BIP*
BAND_CONTENT BLACK&WHITE black&white or red green blue*
BITS_PER_PIXEL 8 radiometric resolution*
SAMPLES_AND_LINES 6301 7699 number of columns and rows*
HORIZONTAL_DATUM NAD83 primary horizontal datum*
HORIZONTAL_COORDINATE_SYSTEM UTM *
COORDINATE_ZONE 10 coordinate system zone number*
HORIZONTAL_UNITS METERS coordinate system units*
HORIZONTAL_RESOLUTION 1.00 pixel horiz. ground sample distance*
SECONDARY_HORIZONTAL_DATUM NAD27 secondary horizontal datum*
XY_ORIGIN 710875.000 4313113.000 coord. of upper left pixel pri. datum*
SECONDARY_XY_ORIGIN 710969.910 4312918.335 coord upper left pixel sec datum*
NATION US nation code*
STATE CA state fip code*
NW_QUAD_CORNER_XY 711266.489 4312666.163 XY coords. of pri. NW quad corner*
NE_QUAD_CORNER_XY 716684.298 4312812.966 XY coords. of pri. NE quad corner*
SE_QUAD_CORNER_XY 716874.519 4305875.978 XY coords. of pri. SE quad corner*
SW_QUAD_CORNER_XY 711451.947 4305729.245 XY coords. of pri. SW quad corner*
SECONDARY_NW_QUAD_XY 711271.897 4312458.409 XY coords. - sec. NW quad cor.*
SECONDARY_NE_QUAD_XY 716689.845 4312605.216 XY coords. - sec. NE quad cor.*
SECONDARY_SE_QUAD_XY 716880.062 4305668.366 XY coords. - sec. SE quad cor.*
SECONDARY_SW_QUAD_XY 711457.351 4305521.628 XY coords. - sec. SW quad cor.*
RMSE_XY 3.00 doq horiz. accuracy*
IMAGE_SOURCE "BLACK AND WHITE FILM" b&w, cir, natural color, other*
SOURCE_IMAGE_ID "NAPP 10549 033" source image id*
SOURCE_IMAGE_DATE 1998 08 20 source image date as yyyy mm dd*
SOURCE_IMAGE_ID "NAPP 10549 034" source image id*
SOURCE_IMAGE_DATE 1998 08 20 source image date as yyyy mm dd*
SOURCE_IMAGE_ID "NAPP 10549 032" source image id*
SOURCE_IMAGE_DATE 1998 08 20 source image date as yyyy mm dd*
SOURCE_DEM_DATE 2000 01 01 source dem date yyyy mm dd*
AGENCY "WESTERN MAPPING CENTER (WMC)" oversight agency*
PRODUCER "SCIENCE APPLICATIONS INTERNATIONAL" producer/contractor*
PRODUCTION_SYSTEM "GIS/MAGIC" production system*
STANDARD_VERSION 1996 12 version of DOQ standard*
METADATA_DATE 2000 12 01 date created or changed, yyyy mm dd*
DATA_FILE_SIZE 48517700 data set size in bytes*
BYTE_COUNT 6301 header byte count* * * * * * * * * * * * * * * * * * * * * * * * * * * * * * * *
END_USGS_HEADER *
