BEGIN_USGS_DOQ_HEADER *
QUADRANGLE_NAME "DEVIL PEAK" 3.45 or 7.5-min. name*
QUADRANT SW quadrant indicator if cell size = 3.75-minutes*
WEST_LONGITUDE -120 37 30.000 signed deg min sec SDDD MM SS.SSS*
EAST_LONGITUDE -120 33 45.000 signed deg min sec SDDD MM SS.SSS*
NORTH_LATITUDE 38 56 15.000 signed deg min sec SDDD MM SS.SSS*
SOUTH_LATITUDE 38 52 30.000 signed deg min sec SDDD MM SS.SSS*
PRODUCTION_DATE 2000 11 1 yyyy mm dd*
RASTER_ORDER LEFT_RIGHT/TOP_BOTTOM video display order*
BAND_ORGANIZATION "SINGLE FILE" single file or BSQ, or BIL or BIP*
BAND_CONTENT BLACK&WHITE black&white or red green blue*
BITS_PER_PIXEL 8 radiometric resolution*
SAMPLES_AND_LINES 6295 7696 number of columns and rows*
HORIZONTAL_DATUM NAD83 primary horizontal datum*
HORIZONTAL_COORDINATE_SYSTEM UTM *
COORDINATE_ZONE 10 coordinate system zone number*
HORIZONTAL_UNITS METERS coordinate system units*
HORIZONTAL_RESOLUTION 1.00 pixel horiz. ground sample distance*
SECONDARY_HORIZONTAL_DATUM NAD27 secondary horizontal datum*
XY_ORIGIN 705458.000 4312967.000 coord. of upper left pixel pri. datum*
SECONDARY_XY_ORIGIN 705552.932 4312772.387 coord upper left pixel sec datum*
NATION US nation code*
STATE CA state fip code*
NW_QUAD_CORNER_XY 705848.733 4312523.083 XY coords. of pri. NW quad corner*
NE_QUAD_CORNER_XY 711266.489 4312666.163 XY coords. of pri. NE quad corner*
SE_QUAD_CORNER_XY 711451.947 4305729.245 XY coords. of pri. SE quad corner*
SW_QUAD_CORNER_XY 706029.428 4305586.232 XY coords. of pri. SW quad corner*
SECONDARY_NW_QUAD_XY 705854.002 4312315.325 XY coords. - sec. NW quad cor.*
SECONDARY_NE_QUAD_XY 711271.897 4312458.409 XY coords. - sec. NE quad cor.*
SECONDARY_SE_QUAD_XY 711457.351 4305521.628 XY coords. - sec. SE quad cor.*
SECONDARY_SW_QUAD_XY 706034.694 4305378.611 XY coords. - sec. SW quad cor.*
RMSE_XY 1.90 doq horiz. accuracy*
IMAGE_SOURCE "BLACK AND WHITE FILM" b&w, cir, natural color, other*
SOURCE_IMAGE_ID "NAPP 10546 187" source image id*
SOURCE_IMAGE_DATE 1998 08 15 source image date as yyyy mm dd*
SOURCE_IMAGE_ID "NAPP 10546 186" source image id*
SOURCE_IMAGE_DATE 1998 08 15 source image date as yyyy mm dd*
SOURCE_DEM_DATE 2000 01 01 source dem date yyyy mm dd*
AGENCY "WESTERN MAPPING CENTER (WMC)" oversight agency*
PRODUCER "SCIENCE APPLICATIONS INTERNATIONAL" producer/contractor*
PRODUCTION_SYSTEM "GIS/MAGIC" production system*
STANDARD_VERSION 1996 12 version of DOQ standard*
METADATA_DATE 2000 12 01 date created or changed, yyyy mm dd*
DATA_FILE_SIZE 48452615 data set size in bytes*
BYTE_COUNT 6295 header byte count* * * * * * * * * * * * * * * * * * * * * * * * * * * * * * * * * *
END_USGS_HEADER *
