BEGIN_USGS_DOQ_HEADER *
QUADRANGLE_NAME "GREENWOOD" 3.45 or 7.5-min. name*
QUADRANT SW quadrant indicator if cell size = 3.75-minutes*
WEST_LONGITUDE -121 0 0.000 signed deg min sec SDDD MM SS.SSS*
EAST_LONGITUDE -120 56 15.000 signed deg min sec SDDD MM SS.SSS*
NORTH_LATITUDE 38 56 15.000 signed deg min sec SDDD MM SS.SSS*
SOUTH_LATITUDE 38 52 30.000 signed deg min sec SDDD MM SS.SSS*
PRODUCTION_DATE 2000 10 5 yyyy mm dd*
RASTER_ORDER LEFT_RIGHT/TOP_BOTTOM video display order*
BAND_ORGANIZATION "SINGLE FILE" single file or BSQ, or BIL or BIP*
BAND_CONTENT BLACK&WHITE black&white or red green blue*
BITS_PER_PIXEL 8 radiometric resolution*
SAMPLES_AND_LINES 6268 7673 number of columns and rows*
HORIZONTAL_DATUM NAD83 primary horizontal datum*
HORIZONTAL_COORDINATE_SYSTEM UTM *
COORDINATE_ZONE 10 coordinate system zone number*
HORIZONTAL_UNITS METERS coordinate system units*
HORIZONTAL_RESOLUTION 1.00 pixel horiz. ground sample distance*
SECONDARY_HORIZONTAL_DATUM NAD27 secondary horizontal datum*
XY_ORIGIN 672951.000 4312164.000 coord. of upper left pixel pri. datum*
SECONDARY_XY_ORIGIN 673046.584 4311969.533 coord upper left pixel sec datum*
NATION US nation code*
STATE CA state fip code*
NW_QUAD_CORNER_XY 673343.238 4311742.745 XY coords. of pri. NW quad corner*
NE_QUAD_CORNER_XY 678760.703 4311863.500 XY coords. of pri. NE quad corner*
SE_QUAD_CORNER_XY 678917.594 4304926.961 XY coords. of pri. SE quad corner*
SW_QUAD_CORNER_XY 673495.369 4304806.263 XY coords. of pri. SW quad corner*
SECONDARY_NW_QUAD_XY 673347.675 4311534.967 XY coords. - sec. NW quad cor.*
SECONDARY_NE_QUAD_XY 678765.279 4311655.725 XY coords. - sec. NE quad cor.*
SECONDARY_SE_QUAD_XY 678922.166 4304719.324 XY coords. - sec. SE quad cor.*
SECONDARY_SW_QUAD_XY 673499.803 4304598.622 XY coords. - sec. SW quad cor.*
RMSE_XY 2.10 doq horiz. accuracy*
IMAGE_SOURCE "BLACK AND WHITE FILM" b&w, cir, natural color, other*
SOURCE_IMAGE_ID "NAPP 10538 023" source image id*
SOURCE_IMAGE_DATE 1998 09 12 source image date as yyyy mm dd*
SOURCE_IMAGE_ID "NAPP 10538 022" source image id*
SOURCE_IMAGE_DATE 1998 09 12 source image date as yyyy mm dd*
SOURCE_IMAGE_ID "NAPP 10520 160" source image id*
SOURCE_IMAGE_DATE 1998 08 16 source image date as yyyy mm dd*
SOURCE_DEM_DATE 1973 00 00 source dem date yyyy mm dd*
AGENCY "WESTERN MAPPING CENTER (WMC)" oversight agency*
PRODUCER "SCIENCE APPLICATIONS INTERNATIONAL" producer/contractor*
PRODUCTION_SYSTEM "GIS/MAGIC" production system*
STANDARD_VERSION 1996 12 version of DOQ standard*
METADATA_DATE 2000 12 01 date created or changed, yyyy mm dd*
DATA_FILE_SIZE 48100632 data set size in bytes*
BYTE_COUNT 6268 header byte count* * * * * * * * * * * * * * * * * * * * * * * * * * * * * * * *
END_USGS_HEADER *
