BEGIN_USGS_DOQ_HEADER *
QUADRANGLE_NAME "CLEMENTS" 3.45 or 7.5-min. name*
QUADRANT NW quadrant indicator if cell size = 3.75-minutes*
WEST_LONGITUDE -121 7 30.000 signed deg min sec SDDD MM SS.SSS*
EAST_LONGITUDE -121 3 45.000 signed deg min sec SDDD MM SS.SSS*
NORTH_LATITUDE 38 15 0.000 signed deg min sec SDDD MM SS.SSS*
SOUTH_LATITUDE 38 11 15.000 signed deg min sec SDDD MM SS.SSS*
PRODUCTION_DATE 1996 4 20 yyyy mm dd*
RASTER_ORDER LEFT_RIGHT/TOP_BOTTOM video display order*
BAND_ORGANIZATION "SINGLE FILE" single file or BSQ, or BIL or BIP*
BAND_CONTENT BLACK&WHITE black&white or red green blue*
BITS_PER_PIXEL 8 radiometric resolution*
SAMPLES_AND_LINES 6317 7670 number of columns and rows*
HORIZONTAL_DATUM NAD83 primary horizontal datum*
HORIZONTAL_COORDINATE_SYSTEM UTM *
COORDINATE_ZONE 10 coordinate system zone number*
HORIZONTAL_UNITS METERS coordinate system units*
HORIZONTAL_RESOLUTION 1.00 pixel horiz. ground sample distance*
SECONDARY_HORIZONTAL_DATUM NAD27 secondary horizontal datum*
XY_ORIGIN 663669.500 4235633.500 coord. of upper left pixel pri. datum*
SECONDARY_XY_ORIGIN 663765.813 4235438.447 coord upper left pixel sec datum*
NATION US nation code*
STATE CA state fip code*
NW_QUAD_CORNER_XY 664066.476 4235215.942 XY coords. of pri. NW quad corner*
NE_QUAD_CORNER_XY 669535.842 4235328.639 XY coords. of pri. NE quad corner*
SE_QUAD_CORNER_XY 669680.997 4228392.936 XY coords. of pri. SE quad corner*
SW_QUAD_CORNER_XY 664206.944 4228280.299 XY coords. of pri. SW quad corner*
SECONDARY_NW_QUAD_XY 664070.603 4235009.716 XY coords. - sec. NW quad cor.*
SECONDARY_NE_QUAD_XY 669540.107 4235122.416 XY coords. - sec. NE quad cor.*
SECONDARY_SE_QUAD_XY 669685.259 4228186.860 XY coords. - sec. SE quad cor.*
SECONDARY_SW_QUAD_XY 664211.068 4228074.219 XY coords. - sec. SW quad cor.*
RMSE_XY 1.60 doq horiz. accuracy*
IMAGE_SOURCE "BLACK AND WHITE FILM" b&w, cir, natural color, other*
SOURCE_IMAGE_ID "PAPP 9349 666" source image id*
SOURCE_IMAGE_DATE 1993 5 9 source image date as yyyy mm dd*
SOURCE_DEM_DATE 1996 4 20 source dem date yyyy mm dd*
AGENCY "WESTERN MAPPING CENTER (WMC)" oversight agency*
PRODUCER "Woolpert Consultants" producer/contractor*
PRODUCTION_SYSTEM "INTERGRAPH ISPM,ISIR" production system*
STANDARD_VERSION 1996 12 version of DOQ standard*
METADATA_DATE 1997 6 4 date created or changed, yyyy mm dd*
DATA_FILE_SIZE 48457707 data set size in bytes*
BYTE_COUNT 6317 header byte count* * * * * * * * * * * * * * * * * * * * * * * * * * * * * * * * * * * *
END_USGS_HEADER *
