BEGIN_USGS_DOQ_HEADER *
QUADRANGLE_NAME "CARBONDALE" 3.45 or 7.5-min. name*
QUADRANT NE quadrant indicator if cell size = 3.75-minutes*
WEST_LONGITUDE -121 3 45.000 signed deg min sec SDDD MM SS.SSS*
EAST_LONGITUDE -121 0 0.000 signed deg min sec SDDD MM SS.SSS*
NORTH_LATITUDE 38 30 0.000 signed deg min sec SDDD MM SS.SSS*
SOUTH_LATITUDE 38 26 15.000 signed deg min sec SDDD MM SS.SSS*
PRODUCTION_DATE 1998 2 9 yyyy mm dd*
RASTER_ORDER LEFT_RIGHT/TOP_BOTTOM video display order*
BAND_ORGANIZATION "SINGLE FILE" single file or BSQ, or BIL or BIP*
BAND_CONTENT BLACK&WHITE black&white or red green blue*
BITS_PER_PIXEL 8 radiometric resolution*
SAMPLES_AND_LINES 6296 7668 number of columns and rows*
HORIZONTAL_DATUM NAD83 primary horizontal datum*
HORIZONTAL_COORDINATE_SYSTEM UTM *
COORDINATE_ZONE 10 coordinate system zone number*
HORIZONTAL_UNITS METERS coordinate system units*
HORIZONTAL_RESOLUTION 1.00 pixel horiz. ground sample distance*
SECONDARY_HORIZONTAL_DATUM NAD27 secondary horizontal datum*
XY_ORIGIN 668560.000 4263490.000 coord. of upper left pixel pri. datum*
SECONDARY_XY_ORIGIN 668656.062 4263295.301 coord upper left pixel sec datum*
NATION US nation code*
STATE CA state fip code*
NW_QUAD_CORNER_XY 668953.199 4263072.107 XY coords. of pri. NW quad corner*
NE_QUAD_CORNER_XY 674403.798 4263188.744 XY coords. of pri. NE quad corner*
SE_QUAD_CORNER_XY 674554.475 4256252.719 XY coords. of pri. SE quad corner*
SW_QUAD_CORNER_XY 669099.163 4256136.142 XY coords. of pri. SW quad corner*
SECONDARY_NW_QUAD_XY 668957.477 4262865.306 XY coords. - sec. NW quad cor.*
SECONDARY_NE_QUAD_XY 674408.213 4262981.946 XY coords. - sec. NE quad cor.*
SECONDARY_SE_QUAD_XY 674558.887 4256046.064 XY coords. - sec. SE quad cor.*
SECONDARY_SW_QUAD_XY 669103.437 4255929.484 XY coords. - sec. SW quad cor.*
RMSE_XY 1.60 doq horiz. accuracy*
IMAGE_SOURCE "BLACK AND WHITE FILM" b&w, cir, natural color, other*
SOURCE_IMAGE_ID "NAPP 6349 115" source image id*
SOURCE_IMAGE_DATE 1993 5 9 source image date as yyyy mm dd*
SOURCE_DEM_DATE 1998 2 9 source dem date yyyy mm dd*
AGENCY "WESTERN MAPPING CENTER (WMC)" oversight agency*
PRODUCER "WESTERN MAPPING CENTER (WMC)" *
PRODUCTION_SYSTEM "DV2.6.3 10/9OV2.4 5/95" production system*
STANDARD_VERSION 1996 12 version of DOQ standard*
METADATA_DATE 1998 2 23 date created or changed, yyyy mm dd*
DATA_FILE_SIZE 48284024 data set size in bytes*
BYTE_COUNT 6296 header byte count* * * * * * * * * * * * * * * * * * * * * * * * * * * * * * * * * * * *
END_USGS_HEADER *
