BEGIN_USGS_DOQ_HEADER *
QUADRANGLE_NAME "CLARKSBURG" 3.45 or 7.5-min. name*
QUADRANT NE quadrant indicator if cell size = 3.75-minutes*
WEST_LONGITUDE -121 33 45.000 signed deg min sec SDDD MM SS.SSS*
EAST_LONGITUDE -121 30 0.000 signed deg min sec SDDD MM SS.SSS*
NORTH_LATITUDE 38 30 0.000 signed deg min sec SDDD MM SS.SSS*
SOUTH_LATITUDE 38 26 15.000 signed deg min sec SDDD MM SS.SSS*
PRODUCTION_DATE 2001 10 11 yyyy mm dd*
RASTER_ORDER LEFT_RIGHT/TOP_BOTTOM video display order*
BAND_ORGANIZATION "SINGLE FILE" single file or BSQ, or BIL or BIP*
BAND_CONTENT BLACK&WHITE black&white or red green blue*
BITS_PER_PIXEL 8 radiometric resolution*
SAMPLES_AND_LINES 6259 7637 number of columns and rows*
HORIZONTAL_DATUM NAD83 primary horizontal datum*
HORIZONTAL_COORDINATE_SYSTEM UTM *
COORDINATE_ZONE 10 coordinate system zone number*
HORIZONTAL_UNITS METERS coordinate system units*
HORIZONTAL_RESOLUTION 1.00 pixel horiz. ground sample distance*
SECONDARY_HORIZONTAL_DATUM NAD27 secondary horizontal datum*
XY_ORIGIN 624956.000 4262660.000 coord. of upper left pixel pri. datum*
SECONDARY_XY_ORIGIN 625052.120 4262464.937 coord upper left pixel sec datum*
NATION US nation code*
STATE CA state fip code*
NW_QUAD_CORNER_XY 625349.933 4262272.421 XY coords. of pri. NW quad corner*
NE_QUAD_CORNER_XY 630800.207 4262359.415 XY coords. of pri. NE quad corner*
SE_QUAD_CORNER_XY 630913.188 4255423.812 XY coords. of pri. SE quad corner*
SW_QUAD_CORNER_XY 625458.204 4255336.862 XY coords. of pri. SW quad corner*
SECONDARY_NW_QUAD_XY 625353.106 4262065.600 XY coords. - sec. NW quad cor.*
SECONDARY_NE_QUAD_XY 630803.518 4262152.596 XY coords. - sec. NE quad cor.*
SECONDARY_SE_QUAD_XY 630916.497 4255217.136 XY coords. - sec. SE quad cor.*
SECONDARY_SW_QUAD_XY 625461.374 4255130.184 XY coords. - sec. SW quad cor.*
RMSE_XY 2.60 doq horiz. accuracy*
IMAGE_SOURCE "BLACK AND WHITE FILM" b&w, cir, natural color, other*
SOURCE_IMAGE_ID "NAPP 10525 218" source image id*
SOURCE_IMAGE_DATE 1998 8 21 source image date as yyyy mm dd*
SOURCE_DEM_DATE 1949 0 0 source dem date yyyy mm dd*
AGENCY "WESTERN MAPPING CENTER (WMC)" oversight agency*
PRODUCER "WESTERN MAPPING CENTER (WMC)" *
PRODUCTION_SYSTEM "DV2.6.4 1/00 OV2.6 6/00" production system*
STANDARD_VERSION 1996 12 version of DOQ standard*
METADATA_DATE 2001 10 11 date created or changed, yyyy mm dd*
DATA_FILE_SIZE 47806242 data set size in bytes*
BYTE_COUNT 6259 header byte count* * * * * * * * * * * * * * * * * * * * * * * * * * * * * * * * * * * *
END_USGS_HEADER *
